BEGIN:VCALENDAR
PRODID:NingEventWidget-v1
VERSION:2.0
METHOD:PUBLISH
BEGIN:VTIMEZONE
TZID:Europe/Athens
X-LIC-LOCATION:Europe/Athens
BEGIN:DAYLIGHT
TZOFFSETFROM:+0200
TZOFFSETTO:+0300
TZNAME:EEST
DTSTART:19700329T030000
RRULE:FREQ=YEARLY;BYMONTH=3;BYDAY=-1SU
END:DAYLIGHT
BEGIN:STANDARD
TZOFFSETFROM:+0300
TZOFFSETTO:+0200
TZNAME:EET
DTSTART:19701025T040000
RRULE:FREQ=YEARLY;BYMONTH=10;BYDAY=-1SU
END:STANDARD
END:VTIMEZONE
BEGIN:VEVENT
UID:1982923:Event:79116
DTSTAMP:20260422T013857Z
SUMMARY:No Name Blues Band - Live at \"In Vivo\"
DESCRIPTION:Blues all nigth long!!!\n@ In Vivo\nΠαρασκευή 26 
 Νοεμβρίου 2010.\n\n\nFor more information visit https://blues
 .gr/events/no-name-blues-band-live-at-in-1
DTSTART;TZID=Europe/Athens:20101126T223000
DTEND;TZID=Europe/Athens:20101126T234500
CATEGORIES:live
LOCATION:In Vivo
WEBSITE:
URL:
CONTACT:210 3822103
ORGANIZER;CN="No Name Blues Band":https://blues.gr/profile/nonameblues
 band
ATTACH;FMTTYPE="image/jpeg":http://storage.ning.com/topology/rest/1.0/
 file/get/2112298845?profile=original
ATTENDEE;ROLE=REQ-PARTICIPANT;PARTSTAT=ACCEPTED;RSVP=TRUE;CN="No Name 
 Blues Band":https://blues.gr/profile/nonamebluesband
END:VEVENT
END:VCALENDAR
