BEGIN:VCALENDAR
PRODID:NingEventWidget-v1
VERSION:2.0
METHOD:PUBLISH
BEGIN:VTIMEZONE
TZID:Europe/Athens
X-LIC-LOCATION:Europe/Athens
BEGIN:DAYLIGHT
TZOFFSETFROM:+0200
TZOFFSETTO:+0300
TZNAME:EEST
DTSTART:19700329T030000
RRULE:FREQ=YEARLY;BYMONTH=3;BYDAY=-1SU
END:DAYLIGHT
BEGIN:STANDARD
TZOFFSETFROM:+0300
TZOFFSETTO:+0200
TZNAME:EET
DTSTART:19701025T040000
RRULE:FREQ=YEARLY;BYMONTH=10;BYDAY=-1SU
END:STANDARD
END:VTIMEZONE
BEGIN:VEVENT
UID:1982923:Event:50311
DTSTAMP:20260422T191028Z
SUMMARY:NO NAME BLUES BAND - live at IN VIVC
DESCRIPTION:Οι \"No Name Blues Band\" εμφανίζονται live 
 στο In Vivo με COOL BLUES προσέγγιση, την Παρασ
 κευή 16 Απριλίου 2010.\n\n\nwww.nonamebluesband.com ------
 ----------------------------------------------------------------------
 ------------------------Ιγνάτης Καραμιχάλης (τύμ
 ανα) Δημήτρης Κατσαντώνης (αντί για Eddi
 e Καρελιώτη που \"γεννάει\") (μπάσο) Θάνο
  Κόλιας (κιθάρα)\nΒασίλης \"Bloose\" Μωραΐτ
 ς (κιθάρα)\nΓιώργος Σπυρόπουλος (φωνή)\n
 \n\n------------------------------------------------------------------
 ----------------------------------------------------------------------
 -\n\nFor more information visit https://blues.gr/events/no-name-blues-
 band-live-at-in
DTSTART;TZID=Europe/Athens:20100416T223000
DTEND;TZID=Europe/Athens:20100416T234500
CATEGORIES:live, blues
LOCATION:In Vivo club
WEBSITE:
URL:
CONTACT:
ORGANIZER;CN="No Name Blues Band":https://blues.gr/profile/nonameblues
 band
ATTACH;FMTTYPE="image/jpeg":http://storage.ning.com/topology/rest/1.0/
 file/get/2159081047?profile=original
ATTENDEE;ROLE=REQ-PARTICIPANT;PARTSTAT=ACCEPTED;RSVP=TRUE;CN=BLACKPEPE
 R:https://blues.gr/profile/BLACKPEPER
ATTENDEE;ROLE=REQ-PARTICIPANT;PARTSTAT=ACCEPTED;RSVP=TRUE;CN="No Name 
 Blues Band":https://blues.gr/profile/nonamebluesband
END:VEVENT
END:VCALENDAR
