BEGIN:VCALENDAR
PRODID:NingEventWidget-v1
VERSION:2.0
METHOD:PUBLISH
BEGIN:VTIMEZONE
TZID:Europe/Athens
X-LIC-LOCATION:Europe/Athens
BEGIN:DAYLIGHT
TZOFFSETFROM:+0200
TZOFFSETTO:+0300
TZNAME:EEST
DTSTART:19700329T030000
RRULE:FREQ=YEARLY;BYMONTH=3;BYDAY=-1SU
END:DAYLIGHT
BEGIN:STANDARD
TZOFFSETFROM:+0300
TZOFFSETTO:+0200
TZNAME:EET
DTSTART:19701025T040000
RRULE:FREQ=YEARLY;BYMONTH=10;BYDAY=-1SU
END:STANDARD
END:VTIMEZONE
BEGIN:VEVENT
UID:1982923:Event:102373
DTSTAMP:20260420T124534Z
SUMMARY:NoNameBluesBand live
DESCRIPTION:Live at \"In Vivo\" blues bar.\n\n\nFor more information v
 isit https://blues.gr/events/nonamebluesband-live
DTSTART;TZID=Europe/Athens:20110506T223000
DTEND;TZID=Europe/Athens:20110506T234500
CATEGORIES:live
LOCATION:In Vivo
WEBSITE:
URL:
CONTACT:210 3822103
ORGANIZER;CN="No Name Blues Band":https://blues.gr/profile/nonameblues
 band
ATTACH;FMTTYPE="image/jpeg":http://storage.ning.com/topology/rest/1.0/
 file/get/2252950675?profile=original
ATTENDEE;ROLE=REQ-PARTICIPANT;PARTSTAT=ACCEPTED;RSVP=TRUE;CN="No Name 
 Blues Band":https://blues.gr/profile/nonamebluesband
END:VEVENT
END:VCALENDAR
