BEGIN:VCALENDAR
PRODID:NingEventWidget-v1
VERSION:2.0
METHOD:PUBLISH
BEGIN:VTIMEZONE
TZID:Europe/Athens
X-LIC-LOCATION:Europe/Athens
BEGIN:DAYLIGHT
TZOFFSETFROM:+0200
TZOFFSETTO:+0300
TZNAME:EEST
DTSTART:19700329T030000
RRULE:FREQ=YEARLY;BYMONTH=3;BYDAY=-1SU
END:DAYLIGHT
BEGIN:STANDARD
TZOFFSETFROM:+0300
TZOFFSETTO:+0200
TZNAME:EET
DTSTART:19701025T040000
RRULE:FREQ=YEARLY;BYMONTH=10;BYDAY=-1SU
END:STANDARD
END:VTIMEZONE
BEGIN:VEVENT
UID:1982923:Event:272311
DTSTAMP:20260425T003607Z
SUMMARY:Not The Rolling Stones
DESCRIPTION:Αφιέρωμα στο μυθικό συγκρότημα,
  το Σάββατο 23 Μαρτίου στις 10:00 το βράδυ 
 στην Αίθουσα Banquet, από μία από τις καλύ
 ερες ευρωπαϊκές tribute bands στους Rolling Stones
 , που έχει δώσει δεκάδες συναυλίες στη 
 Βρετανία, την Ευρώπη και την Ασία. Η εκ
 ληκτική ομοιότητα του τραγουδιστή Paul 
 Ashworth, φυσιογνωμικά, κινησιολογικά αλλ
  και φωνητικά, με τον Mick Jagger τους οδήγη
 σε στον τίτλο Νοt the Rolling Stones– και τίποτ
 α δεν τους εμποδίζει, μαζί με την αυθεν
 τικότητα, να έχουν και τη δική τους ταυ
 τότητα. Mια μπάντα πιστή στον χαρακτηρ
 στικό ήχο και στην απίστευτη ενέργεια
  του θρυλικού ροκ γκρουπ που έγραψε κα
  γράφει ακόμα ιστορία!  Οι Not the Rolling Stones
  αποτελούνται από τους: Laurence Whiteley (ηλεκ
 τρική κιθάρα, «Mick Taylor»), Paul Ashworth (φωνητι
 κά, «Mick Jagger»), Adrian Pounce (ηλεκτρική κιθάρα
 , «Keith Richards»), James Stead (πλήκτρα), Timothy Farmer (
 πάσο, «Bill Wyman») και Martin Slythe (ντραμς, «Charl
 ie Watts»).  Η συναυλία εντάσσεται στο πλαί
 σιο του κύκλου Γέφυρες (καλλιτεχνικός 
 προγραμματισμός και επιμέλεια: Δημήτρ
 ης Μαραγκόπουλος). Τιμές εισιτηρίων 7 
  (φοιτητές, νέοι έως 25 ετών, άνεργοι, Αμ
 εΑ) ● 15 € Παρακαλούμε, σημειώστε ότι δ
 ν θα υπάρχουν καθίσματα και ότι οι θεα
 τές θα παρακολουθούν τη συναυλία όρθι
 ι.  Eισιτήρια 210 72 82 333, megaron.gr  και σε όλα 
 τα καταστήματα Public\r\n\n\nFor more information visit h
 ttps://blues.gr/events/not-the-rolling-stones
DTSTART;TZID=Europe/Athens:20190323T000000
DTEND;TZID=Europe/Athens:20190323T235900
CATEGORIES:rock, blues
LOCATION:Μέγαρο Μουσικής
WEBSITE:
URL:
CONTACT:210 7282000
ORGANIZER:Rockin' The Blues
ATTACH;FMTTYPE="image/jpeg":https://storage.ning.com/topology/rest/1.0
 /file/get/1265700533?profile=original
ATTENDEE;ROLE=REQ-PARTICIPANT;PARTSTAT=ACCEPTED;RSVP=TRUE;CN="Music Ne
 twork by Michael Limnios":https://blues.gr/profile/MichalisLimnios
END:VEVENT
END:VCALENDAR
