BEGIN:VCALENDAR
PRODID:NingEventWidget-v1
VERSION:2.0
METHOD:PUBLISH
BEGIN:VTIMEZONE
TZID:Europe/Athens
X-LIC-LOCATION:Europe/Athens
BEGIN:DAYLIGHT
TZOFFSETFROM:+0200
TZOFFSETTO:+0300
TZNAME:EEST
DTSTART:19700329T030000
RRULE:FREQ=YEARLY;BYMONTH=3;BYDAY=-1SU
END:DAYLIGHT
BEGIN:STANDARD
TZOFFSETFROM:+0300
TZOFFSETTO:+0200
TZNAME:EET
DTSTART:19701025T040000
RRULE:FREQ=YEARLY;BYMONTH=10;BYDAY=-1SU
END:STANDARD
END:VTIMEZONE
BEGIN:VEVENT
UID:1982923:Event:32118
DTSTAMP:20260422T083501Z
SUMMARY:O Νικος Τσιαμτσίκας live στο BUDGIE στι
  10 οκτ.
DESCRIPTION:Ο Νίκος Τσιαμτσίκας με τους \"Blues
  Report\" live στο club BUDGIE στο Λαγονήσι το Σάβ
 ατο 10 Οκτ. 2009. Ωρα έναρξης 10:00...\n\nΝίκος 
 Τσιαμτσίκας φωνή κιθάρα, \"Down Home\" Νόντα
 ς Βορλόκας φυσαρμόνικα φωνή, Κώστας Κο
 ντοβάς κιθάρα, Γιάννης Σαμαράς Μπάσσο,
  Τάσος Δημητριάδης ντράμς.\n\nFor more informati
 on visit https://blues.gr/events/o-nikos-tsiamtshikas-live-sto
DTSTART;TZID=Europe/Athens:20091010T180000
DTEND;TZID=Europe/Athens:20091010T190000
CATEGORIES:rockin-blues, party
LOCATION:Λαγονήσι
WEBSITE:http://www.myspace.com/budgierockclub
URL:http://www.myspace.com/budgierockclub
CONTACT:2291026354 - 6946548630
ORGANIZER;CN="Tsiamtsikas Nikolaos":https://blues.gr/profile/Tsiamtsik
 asNikolaos
ATTACH;FMTTYPE="image/jpeg":http://storage.ning.com/topology/rest/1.0/
 file/get/2252938439?profile=original
ATTENDEE;ROLE=REQ-PARTICIPANT;PARTSTAT=ACCEPTED;RSVP=TRUE;CN="DOWN HOM
 E NONDAS":https://blues.gr/profile/NONDAS
ATTENDEE;ROLE=REQ-PARTICIPANT;PARTSTAT=ACCEPTED;RSVP=TRUE;CN="Tsiamtsi
 kas Nikolaos":https://blues.gr/profile/TsiamtsikasNikolaos
END:VEVENT
END:VCALENDAR
