BEGIN:VCALENDAR
PRODID:NingEventWidget-v1
VERSION:2.0
METHOD:PUBLISH
BEGIN:VTIMEZONE
TZID:Europe/Athens
X-LIC-LOCATION:Europe/Athens
BEGIN:DAYLIGHT
TZOFFSETFROM:+0200
TZOFFSETTO:+0300
TZNAME:EEST
DTSTART:19700329T030000
RRULE:FREQ=YEARLY;BYMONTH=3;BYDAY=-1SU
END:DAYLIGHT
BEGIN:STANDARD
TZOFFSETFROM:+0300
TZOFFSETTO:+0200
TZNAME:EET
DTSTART:19701025T040000
RRULE:FREQ=YEARLY;BYMONTH=10;BYDAY=-1SU
END:STANDARD
END:VTIMEZONE
BEGIN:VEVENT
UID:1982923:Event:113242
DTSTAMP:20260420T010724Z
SUMMARY:Occasional Dream & Take The Money And Run
DESCRIPTION:Οι μουσικοί πειραματισμοί είνα
  το στοιχείο που χαρακτηρίζει τους Occas
 ional Dream. Στη μουσική τους κυριαρχούν τα 
 φυσικά όργανα που την οδηγούν σε δρόμο
 υς ανατολίτικους, πολλές φορές όμως δι
 ασταυρωμένους με στοιχεία jazz ή rock. Ούτ
 , μαντολίνο, φυσαρμόνικα, νέι, φλογέρα,
  τσέλο αποτελούν...μερικά μόνο από τα ό
 γανα που χρησιμοποιεί το συγκρότημα! 
  στίχος πειραματίζεται ανάμεσα στην ε
 λληνική και την αγγλική γλώσσα. Οι Occasio
 nal dream είναι οι: Γιώργος Καλούδης: τσέλο
  Λεωνίδας Καρακατσάνης: κιθάρα, φωνήΧά
 ρης Λαμπράκης: Νέι Δημήτρης Μικέλης: ο
 τι Μιχάλης Νιβολιανίτης: κρουστά, μαν
 ολίνο, φωνήΓιάννης Νοταράς: κρουστάΒα
 σίλης Τζαβάρας: κιθάρα, φωνή\nΟι Take the mon
 ey and run ξεκίνησαν το 1995 παίζοντας Blues κα
  Jazz με μια πιο ηλεκτρική προσέγγιση. Α
 ό το 1997 μέχρι το 1999 έγραφαν μουσική γι
  το θέατρο και εμφανίζονταν ενίοτε σε 
 διάφορες μουσικές σκηνές. Το 2000 η μουσ
 κή τους καταστάλαξε στο ακουστικό στι
 λ που διατηρούν μέχρι σήμερα, με αφετη
 ία το Swing των ΄30 και επιρροές από τους D
 jango Reinhardt, Fats Waller, Duke Ellington αλλά και σύγχ
 ονους δημιουργούς όπως ο Tom Waits. Το 2001 γ
 νωρίστηκαν και συνεργάστηκαν για 3 χρό
 νια με το Λουκιανό Κηλαηδόνη. Το 2003 κυκ
 λοφόρησε ο πρώτος τους δίσκος με τίτλο
  \"How the story goes\". Στα κομμάτια του δίσκου 
 εριγράφεται η ζωή μιας φιλήσυχης συμμ
 ορίας της Νέας Υόρκης κατά τη διάρκεια
  της ποτοαπαγόρευσης...Οι Take the money and run 
 ίναι οι:Βασίλης Τζαβάρας: πιάνο, κιθάρ
 α, φωνή, μπάντζο, φυσαρμόνικαΜελέτης Π
 γκας: κιθάρεςΓιάννης Καραγιάννης: μπά
 σοΓιάννης Νοταράς: κρουστά, drums, kazoo\n\n\nF
 or more information visit https://blues.gr/events/occasional-dream-tak
 e-the-money-and-run
DTSTART;TZID=Europe/Athens:20111007T223000
DTEND;TZID=Europe/Athens:20111007T233000
CATEGORIES:live
LOCATION:Αυλαία
WEBSITE:http://www.musiccorner.gr/nees_kyklof/occasional_dream.html)
URL:http://www.musiccorner.gr/nees_kyklof/occasional_dream.html)
CONTACT:210 3474074
ORGANIZER:Αυλαία
ATTACH;FMTTYPE="image/jpeg":http://storage.ning.com/topology/rest/1.0/
 file/get/2252954600?profile=original
ATTENDEE;ROLE=REQ-PARTICIPANT;PARTSTAT=ACCEPTED;RSVP=TRUE;CN="Giannis 
 Pachidis":https://blues.gr/profile/ioannis
ATTENDEE;ROLE=REQ-PARTICIPANT;PARTSTAT=ACCEPTED;RSVP=TRUE;CN="Music Ne
 twork by Michael Limnios":https://blues.gr/profile/MichalisLimnios
END:VEVENT
END:VCALENDAR
