BEGIN:VCALENDAR
PRODID:NingEventWidget-v1
VERSION:2.0
METHOD:PUBLISH
BEGIN:VTIMEZONE
TZID:Europe/Athens
X-LIC-LOCATION:Europe/Athens
BEGIN:DAYLIGHT
TZOFFSETFROM:+0200
TZOFFSETTO:+0300
TZNAME:EEST
DTSTART:19700329T030000
RRULE:FREQ=YEARLY;BYMONTH=3;BYDAY=-1SU
END:DAYLIGHT
BEGIN:STANDARD
TZOFFSETFROM:+0300
TZOFFSETTO:+0200
TZNAME:EET
DTSTART:19701025T040000
RRULE:FREQ=YEARLY;BYMONTH=10;BYDAY=-1SU
END:STANDARD
END:VTIMEZONE
BEGIN:VEVENT
UID:1982923:Event:143795
DTSTAMP:20260423T134757Z
SUMMARY:OI BACK DOOR BLUES BAND LIVE STO IN VIVO
DESCRIPTION:Οι Back Door Blues Band και οι No Name Blues Band 
 ε blues μονοπάτια την Παρασκευή στο In Vivo.
 \n\n\n\n\nFor more information visit https://blues.gr/events/oi-back-d
 oor-blues-band-live-sto-in-vivo
DTSTART;TZID=Europe/Athens:20120406T000000
DTEND;TZID=Europe/Athens:20120406T235900
CATEGORIES:gig
LOCATION:IN VIVO
WEBSITE:
URL:
CONTACT:
ORGANIZER;CN="The Boogie Sinners":https://blues.gr/profile/TheBoogieSi
 nners
ATTACH;FMTTYPE="image/jpeg":http://storage.ning.com/topology/rest/1.0/
 file/get/2112315885?profile=original
ATTENDEE;ROLE=REQ-PARTICIPANT;PARTSTAT=ACCEPTED;RSVP=TRUE;CN="The Boog
 ie Sinners":https://blues.gr/profile/TheBoogieSinners
END:VEVENT
END:VCALENDAR
