BEGIN:VCALENDAR
PRODID:NingEventWidget-v1
VERSION:2.0
METHOD:PUBLISH
BEGIN:VTIMEZONE
TZID:Europe/Athens
X-LIC-LOCATION:Europe/Athens
BEGIN:DAYLIGHT
TZOFFSETFROM:+0200
TZOFFSETTO:+0300
TZNAME:EEST
DTSTART:19700329T030000
RRULE:FREQ=YEARLY;BYMONTH=3;BYDAY=-1SU
END:DAYLIGHT
BEGIN:STANDARD
TZOFFSETFROM:+0300
TZOFFSETTO:+0200
TZNAME:EET
DTSTART:19701025T040000
RRULE:FREQ=YEARLY;BYMONTH=10;BYDAY=-1SU
END:STANDARD
END:VTIMEZONE
BEGIN:VEVENT
UID:1982923:Event:31747
DTSTAMP:20260422T065202Z
SUMMARY:ΟΙ BLUES THERAPY LIVE ΣΤΟ CLUB LAZY!
DESCRIPTION:ΟΙ BLUES THERAPY (TONY DOLLARO - ΚΙΘ. ΦΩΝΗ , ΣΠ
 . ΠΑΡΑΣΚΕΥΟΠΟΥΛΟΣ- ΚΙΘ. ΦΩΝΗ ,\"DOWN HOME\" ΝΩ
 ΝΤΑΣ ΒΟΡΛΩΚΑΣ- ΦΥΣΑΡΜΟΝΙΚΑ ΦΩΝΗ , ΣΠ. Γ
 ΒΑΛΑΣ - ΝΤΡΑΜΣ , ΔΗΜ. ΙΩΑΝΝΟΥ- ΜΠΑΣΣΟ) LIV
 E ΣΤΟ CLUB LAZY!\n\nSUPPORT ΟΙ MUDDY ROADS.\n\nΕΝΑΡΞΗ 10.00
 \n\nFor more information visit https://blues.gr/events/oi-blues-therap
 y-live-sto-club
DTSTART;TZID=Europe/Athens:20091011T000000
DTEND;TZID=Europe/Athens:20091011T235900
CATEGORIES:gig
LOCATION:LAZY CLUB
WEBSITE:
URL:
CONTACT:
ORGANIZER;CN="DOWN HOME NONDAS":https://blues.gr/profile/NONDAS
ATTACH;FMTTYPE="image/jpeg":http://storage.ning.com/topology/rest/1.0/
 file/get/2252935782?profile=original
ATTENDEE;ROLE=REQ-PARTICIPANT;PARTSTAT=ACCEPTED;RSVP=TRUE;CN="Petros M
 atsakos":https://blues.gr/profile/PetrosMatsakos
ATTENDEE;ROLE=REQ-PARTICIPANT;PARTSTAT=ACCEPTED;RSVP=TRUE;CN="tony dol
 laro":https://blues.gr/profile/tonydollaro
ATTENDEE;ROLE=REQ-PARTICIPANT;PARTSTAT=ACCEPTED;RSVP=TRUE;CN=Panos:htt
 ps://blues.gr/profile/Panos
ATTENDEE;ROLE=REQ-PARTICIPANT;PARTSTAT=ACCEPTED;RSVP=TRUE;CN="DOWN HOM
 E NONDAS":https://blues.gr/profile/NONDAS
END:VEVENT
END:VCALENDAR
