BEGIN:VCALENDAR
PRODID:NingEventWidget-v1
VERSION:2.0
METHOD:PUBLISH
BEGIN:VTIMEZONE
TZID:Europe/Athens
X-LIC-LOCATION:Europe/Athens
BEGIN:DAYLIGHT
TZOFFSETFROM:+0200
TZOFFSETTO:+0300
TZNAME:EEST
DTSTART:19700329T030000
RRULE:FREQ=YEARLY;BYMONTH=3;BYDAY=-1SU
END:DAYLIGHT
BEGIN:STANDARD
TZOFFSETFROM:+0300
TZOFFSETTO:+0200
TZNAME:EET
DTSTART:19701025T040000
RRULE:FREQ=YEARLY;BYMONTH=10;BYDAY=-1SU
END:STANDARD
END:VTIMEZONE
BEGIN:VEVENT
UID:1982923:Event:106506
DTSTAMP:20260421T231118Z
SUMMARY:Οι Blues Wire στο Μεσολόγγι και στη Ναύ
 πακτο
DESCRIPTION:\nΗ Φωτογραφική Λέσχη Μεσολογγί
 υ διοργανώνει την Παρασκευή 24 Ιουνίου
 , στις 9 και μισή το βράδυ στο ανοιχτό θ
 ατρο του λιμανιου, συναυλία με τους BLUE
 S WIRE, ενώ την επόμενη μέρα (25/6) το συγκρό
 τημα θα ταξιδέψει στη Ναύπακτο για ένα
  ακόμα live στο Cervades bar.\nΔημιουργήθηκαν τ
 ο 1983 από τους Ηλία Zάικο και Σωτήρη Zήση
  και οι αρχικές εμφανίσεις τους πραγμα
 τοποιήθηκαν ως BLUESGANG. Mε το όνομα αυτό η
 χογράφησαν τους 3 πρώτους δίσκους τους
  – μεταξύ αυτών και ο πρώτος μπλουζ δί
 κος της Ελληνικής δισκογραφίας – και 
 συνέχισαν ως το 1986 όταν και μετονομαστ
 ήκαν σε BLUES WIRE. Έκτοτε με θαυμαστή συνέ
 εια και αφοσίωση συνεχίζουν μια πορεί
 α μέσα και ανάμεσα στα μπλουζ προσθέτο
 ντας πινελιές προσωπικού ύφους με απο
 έλεσμα μια κατάθεση με άποψη, άμεσα αν
 αγνωρίσιμη και σεβαστή.\n Στη διαδρομή 
 αυτή είχαν την ευκαιρία να γνωρίσουν 
  και ν’ ανοίξουν συναυλίες τους – μυθ
 ικά ονόματα της παγκόσμιας σκηνής (Buddy 
 Guy, Albert King, John Mayall, Otis Rush) αλλά και να επι
 κεφτούν πολλά Ευρωπαϊκά φεστιβάλ (Γαλ
 λια, Iταλια, Oυγγαρια, Aυστρια, Σλοβενια 
 κ.α.). Σήμερα οι BLUES WIRE συνεχίζουν καθοδ
 γούμενοι από τους ανθρώπους που είναι
  υπεύθυνοι για τη δημιουργία τους με α
 οτέλεσμα ένα γκρουπ με πίστη, ωριμότη
 α και ήθος που κοσμεί την Ελληνική μου
 σική σκηνή.\n\nFor more information visit https://blues.gr/ev
 ents/oi-blues-wire-sto-mesolhoggi
DTSTART;TZID=Europe/Athens:20110624T213000
DTEND;TZID=Europe/Athens:20110626T010000
CATEGORIES:live
LOCATION:Θέατρο Λιμανιού (Μεσ/γγι)  - Cervantes (
 αυ/κτο)
WEBSITE:http://www.blueswire.gr/
URL:http://www.blueswire.gr/
CONTACT:
ORGANIZER:Φ.Λ.Μ - Art On The Road
ATTACH;FMTTYPE="image/jpeg":http://storage.ning.com/topology/rest/1.0/
 file/get/2166124733?profile=original
ATTENDEE;ROLE=REQ-PARTICIPANT;PARTSTAT=ACCEPTED;RSVP=TRUE;CN="Evan Tsi
 ggos":https://blues.gr/profile/EvanTsiggos
ATTENDEE;ROLE=REQ-PARTICIPANT;PARTSTAT=ACCEPTED;RSVP=TRUE;CN="Music Ne
 twork by Michael Limnios":https://blues.gr/profile/MichalisLimnios
ATTENDEE;ROLE=REQ-PARTICIPANT;PARTSTAT=ACCEPTED;RSVP=TRUE;CN=Costas:ht
 tps://blues.gr/profile/Costas
END:VEVENT
END:VCALENDAR
