BEGIN:VCALENDAR
PRODID:NingEventWidget-v1
VERSION:2.0
METHOD:PUBLISH
BEGIN:VTIMEZONE
TZID:Europe/Athens
X-LIC-LOCATION:Europe/Athens
BEGIN:DAYLIGHT
TZOFFSETFROM:+0200
TZOFFSETTO:+0300
TZNAME:EEST
DTSTART:19700329T030000
RRULE:FREQ=YEARLY;BYMONTH=3;BYDAY=-1SU
END:DAYLIGHT
BEGIN:STANDARD
TZOFFSETFROM:+0300
TZOFFSETTO:+0200
TZNAME:EET
DTSTART:19701025T040000
RRULE:FREQ=YEARLY;BYMONTH=10;BYDAY=-1SU
END:STANDARD
END:VTIMEZONE
BEGIN:VEVENT
UID:1982923:Event:71319
DTSTAMP:20260424T121557Z
SUMMARY:ΟΙ DOWN HOME BAND LIVE ΣΤΟ \"ΑΙΣΩΠΟΥ ΜΥΘΟΣ!\"
DESCRIPTION:OI DOWN HOME BAND: \"Down Home\" Nondas Vorlokas στα φ
 ωνητικά και φυσαρμόνικα, Spiros Pelekanos κιθ
 ρa,Thodoris Alexiou κιθάρα , Antonis \"ROCK'' Bitros στο μ
 πάσσο , και Spiros \"Smooth Drive\" Gavalas στα τύμπα
 α.\n\nLIVE ΣΤΟ \"ΑΙΣΩΠΟΥ ΜΥΘΟΣ\"\nΗμέρα: Σάβ
 ατo\nΕΝΑΡΞΗ 10.30 μ.μ\n\nFor more information visit https:/
 /blues.gr/events/oi-down-home-band-live-sto-10
DTSTART;TZID=Europe/Athens:20101002T000000
DTEND;TZID=Europe/Athens:20101002T235900
CATEGORIES:gig
LOCATION:ΑΙΣΩΠΟΥ ΜΥΘΟΣ
WEBSITE:
URL:
CONTACT:
ORGANIZER:DOWN HOME NONDAS
ATTACH;FMTTYPE="image/jpeg":http://storage.ning.com/topology/rest/1.0/
 file/get/2073756600?profile=original
ATTENDEE;ROLE=REQ-PARTICIPANT;PARTSTAT=ACCEPTED;RSVP=TRUE;CN="antonis 
 \"the rock\" bitros":https://blues.gr/profile/antonistherockbitros
ATTENDEE;ROLE=REQ-PARTICIPANT;PARTSTAT=ACCEPTED;RSVP=TRUE;CN="Theo and
  The Boogie Sinners":https://blues.gr/profile/AlexiouTheodoros
END:VEVENT
END:VCALENDAR
