BEGIN:VCALENDAR
PRODID:NingEventWidget-v1
VERSION:2.0
METHOD:PUBLISH
BEGIN:VTIMEZONE
TZID:Europe/Athens
X-LIC-LOCATION:Europe/Athens
BEGIN:DAYLIGHT
TZOFFSETFROM:+0200
TZOFFSETTO:+0300
TZNAME:EEST
DTSTART:19700329T030000
RRULE:FREQ=YEARLY;BYMONTH=3;BYDAY=-1SU
END:DAYLIGHT
BEGIN:STANDARD
TZOFFSETFROM:+0300
TZOFFSETTO:+0200
TZNAME:EET
DTSTART:19701025T040000
RRULE:FREQ=YEARLY;BYMONTH=10;BYDAY=-1SU
END:STANDARD
END:VTIMEZONE
BEGIN:VEVENT
UID:1982923:Event:80270
DTSTAMP:20260421T114345Z
SUMMARY:OI DOWN HOME BAND LIVE ΣΤΟ ΓΥΑΛΙΝΟ ΜΟΥΣΙΚΟ Θ
 ΕΑΤΡΟ!
DESCRIPTION:OI DOWN HOME BAND: \"Down Home\" Nondas Vorlokas στα φ
 ωνητικά και φυσαρμόνικα, Vangelis Maglaras κιθ
 άρα ,Antonis \"ROCK'' Bitros στο μπάσσο , και Spiros \"
 Smooth Drive\" Gavalas στα τύμπανα.  LIVE ΣΤΟ ΓΥΑΛΙ
 Ο ΜΟΥΣΙΚΟ ΘΕΑΤΡΟ ! ΤΕΤΑΡΤΗ 5 ΙΑΝΟΥΑΡΙΟ
 , ΠΑΡΑΜΟΝΗ ΤΩΝ ΘΕΟΦΑΝΕΙΩΝ.  ΕΝΑΡΞΗ 10.30 
 .μ\n\nFor more information visit https://blues.gr/events/oi-down-hom
 e-band-live-sto-180
DTSTART;TZID=Europe/Athens:20110105T000000
DTEND;TZID=Europe/Athens:20110105T235900
CATEGORIES:blues, gig
LOCATION:ΓΥΑΛΙΝΟ ΜΟΥΣΙΚΟ ΘΕΑΤΡΟ
WEBSITE:
URL:
CONTACT:
ORGANIZER;CN="DOWN HOME NONDAS":https://blues.gr/profile/NONDAS
ATTACH;FMTTYPE="image/jpeg":http://storage.ning.com/topology/rest/1.0/
 file/get/2252938495?profile=original
ATTENDEE;ROLE=REQ-PARTICIPANT;PARTSTAT=ACCEPTED;RSVP=TRUE;CN="DOWN HOM
 E NONDAS":https://blues.gr/profile/NONDAS
ATTENDEE;ROLE=REQ-PARTICIPANT;PARTSTAT=ACCEPTED;RSVP=TRUE;CN="Theo and
  The Boogie Sinners":https://blues.gr/profile/AlexiouTheodoros
END:VEVENT
END:VCALENDAR
