BEGIN:VCALENDAR
PRODID:NingEventWidget-v1
VERSION:2.0
METHOD:PUBLISH
BEGIN:VTIMEZONE
TZID:Europe/Athens
X-LIC-LOCATION:Europe/Athens
BEGIN:DAYLIGHT
TZOFFSETFROM:+0200
TZOFFSETTO:+0300
TZNAME:EEST
DTSTART:19700329T030000
RRULE:FREQ=YEARLY;BYMONTH=3;BYDAY=-1SU
END:DAYLIGHT
BEGIN:STANDARD
TZOFFSETFROM:+0300
TZOFFSETTO:+0200
TZNAME:EET
DTSTART:19701025T040000
RRULE:FREQ=YEARLY;BYMONTH=10;BYDAY=-1SU
END:STANDARD
END:VTIMEZONE
BEGIN:VEVENT
UID:1982923:Event:45152
DTSTAMP:20260422T141006Z
SUMMARY:OI DOWN HOME BAND LIVE ΣΤΟ DIVINE CLUB!
DESCRIPTION:OI DOWN HOME BAND: \"Down Home\" Nondas Vorlokas στα φ
 ωνητικά και φυσαρμόνικα, Spiros Pelekanos κιθ
 ρa, Antonis \"ROCK'' Bitros στο μπάσσο, Σταύρος Πη
 λιχός πλήκτρα και Spiros \"Smooth Drive\" Gavalas στ
  τύμπανα.\n\n\nLIVE ΣΤΟ DIVINE CLUB\n\nΕΝΑΡΞΗ 10.00 
 .μ\n\nFor more information visit https://blues.gr/events/oi-down-hom
 e-band-live-sto-3
DTSTART;TZID=Europe/Athens:20100415T000000
DTEND;TZID=Europe/Athens:20100415T235900
CATEGORIES:gig
LOCATION:DIVINE CLUB
WEBSITE:
URL:
CONTACT:
ORGANIZER;CN="DOWN HOME NONDAS":https://blues.gr/profile/NONDAS
ATTACH;FMTTYPE="image/jpeg":http://storage.ning.com/topology/rest/1.0/
 file/get/2252938495?profile=original
ATTENDEE;ROLE=REQ-PARTICIPANT;PARTSTAT=ACCEPTED;RSVP=TRUE;CN="antonis 
 \"the rock\" bitros":https://blues.gr/profile/antonistherockbitros
ATTENDEE;ROLE=REQ-PARTICIPANT;PARTSTAT=ACCEPTED;RSVP=TRUE;CN="tony dol
 laro":https://blues.gr/profile/tonydollaro
ATTENDEE;ROLE=REQ-PARTICIPANT;PARTSTAT=ACCEPTED;RSVP=TRUE;CN="DOWN HOM
 E NONDAS":https://blues.gr/profile/NONDAS
END:VEVENT
END:VCALENDAR
