BEGIN:VCALENDAR
PRODID:NingEventWidget-v1
VERSION:2.0
METHOD:PUBLISH
BEGIN:VTIMEZONE
TZID:Europe/Athens
X-LIC-LOCATION:Europe/Athens
BEGIN:DAYLIGHT
TZOFFSETFROM:+0200
TZOFFSETTO:+0300
TZNAME:EEST
DTSTART:19700329T030000
RRULE:FREQ=YEARLY;BYMONTH=3;BYDAY=-1SU
END:DAYLIGHT
BEGIN:STANDARD
TZOFFSETFROM:+0300
TZOFFSETTO:+0200
TZNAME:EET
DTSTART:19701025T040000
RRULE:FREQ=YEARLY;BYMONTH=10;BYDAY=-1SU
END:STANDARD
END:VTIMEZONE
BEGIN:VEVENT
UID:1982923:Event:54189
DTSTAMP:20260422T123721Z
SUMMARY:OI DOWN HOME BAND ΣΤΟ AN CLUB
DESCRIPTION:OI DOWN HOME BAND: \"Down Home\" Nondas Vorlokas στα φ
 ωνητικά και φυσαρμόνικα, Spiros Pelekanos κιθ
 ρa,Thodoris Alexiou κιθάρα , Antonis \"ROCK'' Bitros στο μ
 πάσσο ,Σταύρος Πηλιχός πλήκτρα και Spiros
  \"Smooth Drive\" Gavalas στα τύμπανα.\n\nΠΡΟΦΕΣΤΙΒ
 ΑΛΙΚΟΣ ΚΥΚΛΟΣ ΤΟΥ B-FEST 2010. ΤΟ B-FEST ΠΑΡΟΥΣ
 ΙΑΖΕΙ\nΣΧΗΜΑΤΑ ΠΟΥ ΠΑΙΖΟΥΝ ΣΤΟ ΦΕΣΤΙΒΑ
 Λ ΤΕΛΟΣ ΜΑΙΟΥ. ΤΗΝ ΤΕΤΑΡΤΗ 28 ΑΠΡΙΛΙΟΥ, 
 ΑΖΙ ΜΕ ΑΛΛΑ 5 ΣΧΗΜΑΤΑ ΕΜΦΑΝΙΖΟΝΤΑΙ ΚΑΙ
  ΟΙ DOWN HOME BAND.\n\nΕΝΑΡΞΗ 21.30\n\nΛΕΠΤΟΜΕΡΕΙΕ
  ΣΤΟ http://bfest.gr/\n\nFor more information visit https://blues.
 gr/events/oi-down-home-band-sto-an-club
DTSTART;TZID=Europe/Athens:20100428T000000
DTEND;TZID=Europe/Athens:20100429T235900
CATEGORIES:gig
LOCATION:AN CLUB
WEBSITE:
URL:
CONTACT:
ORGANIZER;CN="DOWN HOME NONDAS":https://blues.gr/profile/NONDAS
ATTACH;FMTTYPE="image/jpeg":http://storage.ning.com/topology/rest/1.0/
 file/get/2252938495?profile=original
ATTENDEE;ROLE=REQ-PARTICIPANT;PARTSTAT=ACCEPTED;RSVP=TRUE;CN="antonis 
 \"the rock\" bitros":https://blues.gr/profile/antonistherockbitros
ATTENDEE;ROLE=REQ-PARTICIPANT;PARTSTAT=ACCEPTED;RSVP=TRUE;CN="DOWN HOM
 E NONDAS":https://blues.gr/profile/NONDAS
END:VEVENT
END:VCALENDAR
