BEGIN:VCALENDAR
PRODID:NingEventWidget-v1
VERSION:2.0
METHOD:PUBLISH
BEGIN:VTIMEZONE
TZID:Europe/Athens
X-LIC-LOCATION:Europe/Athens
BEGIN:DAYLIGHT
TZOFFSETFROM:+0200
TZOFFSETTO:+0300
TZNAME:EEST
DTSTART:19700329T030000
RRULE:FREQ=YEARLY;BYMONTH=3;BYDAY=-1SU
END:DAYLIGHT
BEGIN:STANDARD
TZOFFSETFROM:+0300
TZOFFSETTO:+0200
TZNAME:EET
DTSTART:19701025T040000
RRULE:FREQ=YEARLY;BYMONTH=10;BYDAY=-1SU
END:STANDARD
END:VTIMEZONE
BEGIN:VEVENT
UID:1982923:Event:55389
DTSTAMP:20260420T175138Z
SUMMARY:ΟΙ DOWN HOME BAND ΣΤΟ  IN VIVO SUMMER CLOSING  LIVE PARTY
 !
DESCRIPTION:OI DOWN HOME BAND: \"Down Home\" Nondas Vorlokas στα φ
 ωνητικά και φυσαρμόνικα, Spiros Pelekanos κιθ
 ρa, Antonis \"ROCK'' Bitros στο μπάσσο ,Σταύρος Πη
 λιχός πλήκτρα και Spiros \"Smooth Drive\" Gavalas στ
  τύμπανα. ΣΤΟ IN VIVO SUMMER CLOSING LIVE PARTY!\n\nΕΝΑ
 ΞΗ 10.30.\n\nΔΙΗΜΕΡΟ LIVE PARTY. ΣΥΜΜΕΤΕΧΟΥΝ: GE
 RGE AND THE DUKES , Δ.ΠΑΝΑΓΟΠΟΥΛΟΣ + AURA ,HOT ORGANIC T
 RIO , NO MAN'S LAND , SMALL BLUES TRAP , MUDDY ROADS , HELENA CARLOS A
 COUSTIC TRIO ,RESALTO , PURPLE ENCLOSURE.\n\nFor more information visi
 t https://blues.gr/events/oi-down-home-band-sto-in-vivo-2
DTSTART;TZID=Europe/Athens:20100514T000000
DTEND;TZID=Europe/Athens:20100514T235900
CATEGORIES:gig, live, party
LOCATION:IN VIVO
WEBSITE:
URL:
CONTACT:
ORGANIZER;CN="DOWN HOME NONDAS":https://blues.gr/profile/NONDAS
ATTACH;FMTTYPE="image/jpeg":http://storage.ning.com/topology/rest/1.0/
 file/get/2252938495?profile=original
ATTENDEE;ROLE=REQ-PARTICIPANT;PARTSTAT=ACCEPTED;RSVP=TRUE;CN="DOWN HOM
 E NONDAS":https://blues.gr/profile/NONDAS
END:VEVENT
END:VCALENDAR
