BEGIN:VCALENDAR
PRODID:NingEventWidget-v1
VERSION:2.0
METHOD:PUBLISH
BEGIN:VTIMEZONE
TZID:Europe/Athens
X-LIC-LOCATION:Europe/Athens
BEGIN:DAYLIGHT
TZOFFSETFROM:+0200
TZOFFSETTO:+0300
TZNAME:EEST
DTSTART:19700329T030000
RRULE:FREQ=YEARLY;BYMONTH=3;BYDAY=-1SU
END:DAYLIGHT
BEGIN:STANDARD
TZOFFSETFROM:+0300
TZOFFSETTO:+0200
TZNAME:EET
DTSTART:19701025T040000
RRULE:FREQ=YEARLY;BYMONTH=10;BYDAY=-1SU
END:STANDARD
END:VTIMEZONE
BEGIN:VEVENT
UID:1982923:Event:35940
DTSTAMP:20260425T020636Z
SUMMARY:OI DOWN HOME ΧΡΙΣΤΟΥΓΕΝΝΑ ΣΤΟ IN VIVO!
DESCRIPTION:OI DOWN HOME BAND: \"Down Home\" Nondas Vorlokas στα φ
 ωνητικά και φυσαρμόνικα, Dimitris Vasilas κιθ
 ρα, Spiros Pelekanos κιθάρa, Antonis \"ROCK'' Bitros στο μ
 πάσσο και Akis \"Train\"Petropoulos στα τύμπανα.\n\n
 ΣΕ ΜΙΑ ΞΕΧΩΡΙΣΤΗ ΒΡΑΔΥΑ ΧΡΙΣΤΟΥΓΕΝΝΩΝ
 !\n\nΕΝΑΡΞΗ: 11.00.\n\nFor more information visit https://blues.
 gr/events/oi-down-home-christoygenna-sto
DTSTART;TZID=Europe/Athens:20091225T000000
DTEND;TZID=Europe/Athens:20091225T235900
CATEGORIES:christmas, "gig!"
LOCATION:IN VIVO
WEBSITE:
URL:
CONTACT:
ORGANIZER;CN="DOWN HOME NONDAS":https://blues.gr/profile/NONDAS
ATTACH;FMTTYPE="image/jpeg":http://storage.ning.com/topology/rest/1.0/
 file/get/2252938338?profile=original
ATTENDEE;ROLE=REQ-PARTICIPANT;PARTSTAT=ACCEPTED;RSVP=TRUE;CN="Paul Xen
 os ( J. Warbird)":https://blues.gr/profile/PaulXenos
ATTENDEE;ROLE=REQ-PARTICIPANT;PARTSTAT=ACCEPTED;RSVP=TRUE;CN="antonis 
 \"the rock\" bitros":https://blues.gr/profile/antonistherockbitros
ATTENDEE;ROLE=REQ-PARTICIPANT;PARTSTAT=ACCEPTED;RSVP=TRUE;CN="DOWN HOM
 E NONDAS":https://blues.gr/profile/NONDAS
END:VEVENT
END:VCALENDAR
