BEGIN:VCALENDAR
PRODID:NingEventWidget-v1
VERSION:2.0
METHOD:PUBLISH
BEGIN:VTIMEZONE
TZID:Europe/Athens
X-LIC-LOCATION:Europe/Athens
BEGIN:DAYLIGHT
TZOFFSETFROM:+0200
TZOFFSETTO:+0300
TZNAME:EEST
DTSTART:19700329T030000
RRULE:FREQ=YEARLY;BYMONTH=3;BYDAY=-1SU
END:DAYLIGHT
BEGIN:STANDARD
TZOFFSETFROM:+0300
TZOFFSETTO:+0200
TZNAME:EET
DTSTART:19701025T040000
RRULE:FREQ=YEARLY;BYMONTH=10;BYDAY=-1SU
END:STANDARD
END:VTIMEZONE
BEGIN:VEVENT
UID:1982923:Event:27951
DTSTAMP:20260425T171930Z
SUMMARY:ΟΙ TUBE A BASSA ΚΑΙ ΟΙ ZERO ZERO LIVE ΣΤΟ GHOST HOUS
 E.
DESCRIPTION:TUBE A BASSA : ΜΑΝΩΛΗΣ ΑΘΑΝΑΣΑΚΗΣ : ΚΙ
 ΑΡΑ-ΦΩΝΗ , \"DOWN HOME\" ΝΩΝΤΑΣ ΒΟΡΛΩΚΑΣ: ΦΥΣ
 ΑΡΜΟΝΙΚΑ- ΦΩΝΗ , ΚΩΣΤΑΣ ΓΚΟΝΤΑΣ : ΚΙΘΑΡ
  , ΔΗΜΗΤΡΗΣ ΔΙΑΜΑΝΤΟΠΟΥΛΟΣ : ΜΠΑΣΣΟ , Ν
 ΚΟΣ ΓΡΕΤΟΣ : ΝΤΡΑΜΣ.\n\nZERO ZERO : Γ.ΖΗΚΟΣ : Κ
 ΙΘΑΡΑ- ΦΩΝΗ , ΑΝΤΥ ΜΑΡΚ : ΦΩΝΗ - ΑΚ.ΚΙΘΑΡ
  , Κ.ΚΑΛΟΓΗΡΟΥ: ΝΤΡΑΜΣ , ΜΑΡΙΟΣ ΣΚΟΥΦΑΣ 
 : ΜΠΑΣΣΟ.\nΕΝΑΡΞΗ : 11:30 ΜΜ.\n\nFor more information vi
 sit https://blues.gr/events/oi-tube-a-bassa-kai-oi-zero
DTSTART;TZID=Europe/Athens:20090703T000000
DTEND;TZID=Europe/Athens:20090703T235900
CATEGORIES:gig
LOCATION:GHOST HOUSE
WEBSITE:
URL:
CONTACT:
ORGANIZER;CN="DOWN HOME NONDAS":https://blues.gr/profile/NONDAS
ATTACH;FMTTYPE="image/jpeg":http://storage.ning.com/topology/rest/1.0/
 file/get/2252935782?profile=original
ATTENDEE;ROLE=REQ-PARTICIPANT;PARTSTAT=ACCEPTED;RSVP=TRUE;CN="Giannis 
 Pachidis":https://blues.gr/profile/ioannis
ATTENDEE;ROLE=REQ-PARTICIPANT;PARTSTAT=ACCEPTED;RSVP=TRUE;CN="DOWN HOM
 E NONDAS":https://blues.gr/profile/NONDAS
END:VEVENT
END:VCALENDAR
