BEGIN:VCALENDAR
PRODID:NingEventWidget-v1
VERSION:2.0
METHOD:PUBLISH
BEGIN:VTIMEZONE
TZID:Europe/Athens
X-LIC-LOCATION:Europe/Athens
BEGIN:DAYLIGHT
TZOFFSETFROM:+0200
TZOFFSETTO:+0300
TZNAME:EEST
DTSTART:19700329T030000
RRULE:FREQ=YEARLY;BYMONTH=3;BYDAY=-1SU
END:DAYLIGHT
BEGIN:STANDARD
TZOFFSETFROM:+0300
TZOFFSETTO:+0200
TZNAME:EET
DTSTART:19701025T040000
RRULE:FREQ=YEARLY;BYMONTH=10;BYDAY=-1SU
END:STANDARD
END:VTIMEZONE
BEGIN:VEVENT
UID:1982923:Event:55395
DTSTAMP:20260421T141017Z
SUMMARY:ΟΙ TUBE A BASSA LIVE ΣΤΟ SUMMER PARTY ΚΤΗΜΑ ΛΑΖΑ
 ΡΗ!
DESCRIPTION:ΟΙ TUBE A BASSA LIVE ΣΤΟ SUMMER PARTY ΚΤΗΜΑ ΛΑ
 ΖΑΡΗ!\n\nΕΝΑΡΞΗ 21.00\n\nFor more information visit https://
 blues.gr/events/oi-tube-a-bassa-live-sto-5
DTSTART;TZID=Europe/Athens:20100529T000000
DTEND;TZID=Europe/Athens:20100529T235900
CATEGORIES:gig, live, party
LOCATION:ΚΤΗΜΑ ΛΑΖΑΡΗ.
WEBSITE:
URL:
CONTACT:
ORGANIZER;CN="DOWN HOME NONDAS":https://blues.gr/profile/NONDAS
ATTACH;FMTTYPE="image/jpeg":http://storage.ning.com/topology/rest/1.0/
 file/get/2112315619?profile=original
ATTENDEE;ROLE=REQ-PARTICIPANT;PARTSTAT=ACCEPTED;RSVP=TRUE;CN="DOWN HOM
 E NONDAS":https://blues.gr/profile/NONDAS
END:VEVENT
END:VCALENDAR
