BEGIN:VCALENDAR
PRODID:NingEventWidget-v1
VERSION:2.0
METHOD:PUBLISH
BEGIN:VTIMEZONE
TZID:Europe/Athens
X-LIC-LOCATION:Europe/Athens
BEGIN:DAYLIGHT
TZOFFSETFROM:+0200
TZOFFSETTO:+0300
TZNAME:EEST
DTSTART:19700329T030000
RRULE:FREQ=YEARLY;BYMONTH=3;BYDAY=-1SU
END:DAYLIGHT
BEGIN:STANDARD
TZOFFSETFROM:+0300
TZOFFSETTO:+0200
TZNAME:EET
DTSTART:19701025T040000
RRULE:FREQ=YEARLY;BYMONTH=10;BYDAY=-1SU
END:STANDARD
END:VTIMEZONE
BEGIN:VEVENT
UID:1982923:Event:49909
DTSTAMP:20260423T013013Z
SUMMARY:ΟΙ TUBE A BASSA LIVE ΣΤΟ LAZY CLUB.
DESCRIPTION:ΟΙ TUBE A BASSA : ΜΑΝΩΛΗΣ ΑΘΑΝΑΣΑΚΗΣ: 
 ΙΘΑΡΑ-ΦΩΝΗ , \"Down Home\" ΝΩΝΤΑΣ ΒΟΡΛΩΚΑΣ: Φ
 ΩΝΗ-ΦΥΣΑΡΜΟΝΙΚΑ, ΚΩΣΤΑΣ ΓΚΟΝΤΑΣ : ΚΙΘΑ
 Α ,ΔΗΜΗΤΡΗΣ ΔΙΑΜΑΝΤΟΠΟΥΛΟΣ: ΜΠΑΣΟ , ΝΙ
 ΟΣ ΓΡΕΤΟΣ: ΤΥΜΠΑΝΑ, LIVE ΣΤΟ LAZY CLUB.\n\n\nΕΝΑ
 ΡΞΗ: 10μ.μ\n\nFor more information visit https://blues.gr/events/
 oi-tube-a-bassa-live-sto-lazy
DTSTART;TZID=Europe/Athens:20100418T000000
DTEND;TZID=Europe/Athens:20100418T235900
CATEGORIES:gig
LOCATION:LAZY CLUB
WEBSITE:
URL:
CONTACT:
ORGANIZER;CN="DOWN HOME NONDAS":https://blues.gr/profile/NONDAS
ATTACH;FMTTYPE="image/jpeg":http://storage.ning.com/topology/rest/1.0/
 file/get/2252935773?profile=original
ATTENDEE;ROLE=REQ-PARTICIPANT;PARTSTAT=ACCEPTED;RSVP=TRUE;CN="DOWN HOM
 E NONDAS":https://blues.gr/profile/NONDAS
END:VEVENT
END:VCALENDAR
