BEGIN:VCALENDAR
PRODID:NingEventWidget-v1
VERSION:2.0
METHOD:PUBLISH
BEGIN:VTIMEZONE
TZID:Europe/Athens
X-LIC-LOCATION:Europe/Athens
BEGIN:DAYLIGHT
TZOFFSETFROM:+0200
TZOFFSETTO:+0300
TZNAME:EEST
DTSTART:19700329T030000
RRULE:FREQ=YEARLY;BYMONTH=3;BYDAY=-1SU
END:DAYLIGHT
BEGIN:STANDARD
TZOFFSETFROM:+0300
TZOFFSETTO:+0200
TZNAME:EET
DTSTART:19701025T040000
RRULE:FREQ=YEARLY;BYMONTH=10;BYDAY=-1SU
END:STANDARD
END:VTIMEZONE
BEGIN:VEVENT
UID:1982923:Event:241761
DTSTAMP:20260421T214038Z
SUMMARY:On the Road
DESCRIPTION:\"On the road\"\nOn the road και πάλι ,με τον
 Nώντα Bορλώκα (Down Home Nondas),\nAπό «A fm » Στο 
 ιαδυκτιακό ραδιόφωνο.\nKάθε Δευτέρα( Eκ
 τός της  Δευτέρας του Πάσχα)10-12μμ Tο βρ
 δυ,στόν www.albedo14.com με τα αγαπημένα μας 
 Blues\n \n\n\n\nFor more information visit https://blues.gr/events/on
 -the-road-1
DTSTART;TZID=Europe/Athens:20160509T220000
DTEND;TZID=Europe/Athens:20160510T000000
CATEGORIES:διαδυκτικακή, εκπομπή, με, μουσι
 ή, blues
LOCATION:www.albedo14.com
WEBSITE:http://www.albedo14.com
URL:http://www.albedo14.com
CONTACT:
ORGANIZER;CN="Dimitris Ioannou":https://blues.gr/profile/DimitrisIoann
 ou
ATTACH;FMTTYPE="image/jpeg":http://storage.ning.com/topology/rest/1.0/
 file/get/2253046859?profile=original
ATTENDEE;ROLE=REQ-PARTICIPANT;PARTSTAT=ACCEPTED;RSVP=TRUE;CN="Dimitris
  Ioannou":https://blues.gr/profile/DimitrisIoannou
END:VEVENT
END:VCALENDAR
