BEGIN:VCALENDAR
PRODID:NingEventWidget-v1
VERSION:2.0
METHOD:PUBLISH
BEGIN:VTIMEZONE
TZID:Europe/Athens
X-LIC-LOCATION:Europe/Athens
BEGIN:DAYLIGHT
TZOFFSETFROM:+0200
TZOFFSETTO:+0300
TZNAME:EEST
DTSTART:19700329T030000
RRULE:FREQ=YEARLY;BYMONTH=3;BYDAY=-1SU
END:DAYLIGHT
BEGIN:STANDARD
TZOFFSETFROM:+0300
TZOFFSETTO:+0200
TZNAME:EET
DTSTART:19701025T040000
RRULE:FREQ=YEARLY;BYMONTH=10;BYDAY=-1SU
END:STANDARD
END:VTIMEZONE
BEGIN:VEVENT
UID:1982923:Event:495496
DTSTAMP:20260422T010536Z
SUMMARY:Ostomachion Sessions XVI
DESCRIPTION:𝐎𝐬𝐭𝐨𝐦𝐚𝐜𝐡𝐢𝐨𝐧 𝐒𝐞𝐬
 𝐢𝐨𝐧𝐬 𝐗𝐕𝐈_extending notions of woodwinds\r\n
 𝐚𝐯𝐢𝐝 𝐉𝐚𝐜𝐤𝐬𝐨𝐧: soprano, alto & tenor 
 Saxophones, Flute𝐒𝐭𝐞𝐥𝐢𝐨𝐬 𝐑𝐨𝐦𝐚𝐥𝐢
 𝐚𝐝𝐢𝐬: Flute𝐆𝐢𝐨𝐫𝐠𝐨𝐬 𝐕𝐚𝐫𝐨
 𝐭𝐚𝐬: Ζωντανή επεξεργασία ήχου\r\n📅
 ​ 24.​04.​2026🕘 ​​21:00📍 Underflow Record Store & Art 
 Gallery​ Kallirois 39, Athens, Greece🎟️ Ticket: ​15 €\r\n
 𝐚𝐯𝐢𝐝 𝐉𝐚𝐜𝐤𝐬𝐨𝐧Ο David Jackson, πο
  μερικές φορές ονομάζεται Jaxon, είναι ί
 ως περισσότερο γνωστός ως μέλος της θ
 υλικής προοδευτικής ροκ μπάντας των δ
 εκαετιών του 1970 Van der Graaf Generator. Αλλά έχε
  συνεργαστεί σε όλο το μουσικό φάσμα μ
 ε καλλιτέχνες όπως οι Peter Gabriel, Keith Tippet, O
 sanna, Peter Hammill και πολλοί άλλοι. Ανέπτυξε 
 το δικό του πολύ προσωπικό και αναγνωρ
 ίσιμο στυλ ηλεκτρονικού σαξοφώνου, συ
 νά παίζοντας δύο ταυτόχρονα.Τη δεκαετ
 ία του 1980 σπούδασε διδασκαλία στο Πανε
 πιστήμιο του Surrey και στη συνέχεια εργά
 στηκε για αρκετά χρόνια ως Σύμβουλος Μ
 αθηματικών για Ατομα με Ειδικές Ανάγκ
 ς στο Bulmershe Comprehensive School Reading, ως Ηγέτης 
 ικρής Τάξης και Ειδικός στα Μαθηματικ
 ά στο St Paul’s School, Wokingham και ως Δάσκαλος 
 ουσικής στο Wildridings Primary School, Bracknell. Η κα
 ιέρα του επανήλθε στη μουσική το 1990 ότ
 αν πήγε σε περιοδεία με την Ιταλίδα τρ
 γουδίστρια Alice και έγραψε τη μουσική γ
 ια δύο θεατρικά έργα: Savages (1990) και The Death
  Of An Andalusian Poet, για τον Federico Garcia Lorca, σε σκ
 ηνοθεσία Joel Roszykiewicz (1990/91). Ενώ εργαζότα
  στο The Ark, Southill Park το 1990, ο Jaxon ανακάλυψε
  τον εκπληκτικό κόσμο του συστήματος So
 undbeam. Είναι ακτίνες σε σχήμα κώνου που 
 αράγουν ήχους ανάλογα με τον τρόπο κα
  το σημείο που κόβονται οι ακτίνες. Δι
 πίστωσε ότι ήταν ιδανικές για να επιτ
 έπουν στα άτομα με αναπηρία να παράγο
 ν μουσική και έγινε μουσικός και επαγ
 ελματίας στον τομέα της αναπηρίας, συ
 μετέχοντας σε έργα που ενθαρρύνουν τη
  δραστηριοποίηση παιδιών με αναπηρία, 
 μια καριέρα που συνεχίζει να προσφέρε
 . Ταυτόχρονα συνθέτει και ερμηνεύει. Ή
 ταν μέλος της ανασυγκρότησης της περι
 δείας των Van der Graaf Generator το 2005 και συνερ
 γάστηκε με διάφορες ομάδες και μουσικ
 ύς, συμπεριλαμβανομένων των Judge Smith, Magi
 c Mushroom Band, της ιταλικής progressive rock μπάντα
 ς Osanna, του Ολλανδού περκασιονίστα René va
 n Commenée και πολλών άλλων. Σήμερα παίζει 
 με το Λονδρέζικο συγκρότημα Kaprekar’s Const
 ant ενώ συνεχίζει να συνθέτει μουσική γ
 α και να εμφανίζεται με μια ευρεία επι
 λογή άλλων μουσικών. Έχει συνεργαστεί 
 δισκογραφικά με τον Στέλιο Ρωμαλιάδη 
 τα 2 πρώτα άλμπουμ των Lüüp (Distress Signal Code/
 2008 & Meadow Rituals/2011)\r\nhttps://jaxontonewall.com/\r\n\r\n\n\nF
 or more information visit https://blues.gr/events/ostomachion-sessions
 -xvi
DTSTART;TZID=Europe/Athens:20260424T000000
DTEND;TZID=Europe/Athens:20260424T235900
CATEGORIES:jazz
LOCATION:Underflow Record Store &amp; Art Gallery
WEBSITE:
URL:
CONTACT:
ORGANIZER:Tadoma
ATTACH;FMTTYPE="image/jpeg":https://storage.ning.com/topology/rest/1.0
 /file/get/31135264285?profile=original
ATTENDEE;ROLE=REQ-PARTICIPANT;PARTSTAT=ACCEPTED;RSVP=TRUE;CN="Music Ne
 twork by Michael Limnios":https://blues.gr/profile/MichalisLimnios
END:VEVENT
END:VCALENDAR
