BEGIN:VCALENDAR
PRODID:NingEventWidget-v1
VERSION:2.0
METHOD:PUBLISH
BEGIN:VTIMEZONE
TZID:Europe/Athens
X-LIC-LOCATION:Europe/Athens
BEGIN:DAYLIGHT
TZOFFSETFROM:+0200
TZOFFSETTO:+0300
TZNAME:EEST
DTSTART:19700329T030000
RRULE:FREQ=YEARLY;BYMONTH=3;BYDAY=-1SU
END:DAYLIGHT
BEGIN:STANDARD
TZOFFSETFROM:+0300
TZOFFSETTO:+0200
TZNAME:EET
DTSTART:19701025T040000
RRULE:FREQ=YEARLY;BYMONTH=10;BYDAY=-1SU
END:STANDARD
END:VTIMEZONE
BEGIN:VEVENT
UID:1982923:Event:76804
DTSTAMP:20260422T145613Z
SUMMARY:Pale Blue & The Saint unplugged
DESCRIPTION:Pale Blue & the Saint along with I see Zero! Lots of folk 
 blues and indie folk tunes!\n\nFor more information visit https://blue
 s.gr/events/pale-blue-the-saint-unplugged-1
DTSTART;TZID=Europe/Athens:20101029T220000
DTEND;TZID=Europe/Athens:20101030T020000
CATEGORIES:concert
LOCATION:Aisopou Mythos
WEBSITE:http://www.myspace.com/palebluepanos
URL:http://www.myspace.com/palebluepanos
CONTACT:698 622 77 93
ORGANIZER;CN=panos747:https://blues.gr/profile/panos747
ATTACH;FMTTYPE="image/jpeg":http://storage.ning.com/topology/rest/1.0/
 file/get/2252947747?profile=original
ATTENDEE;ROLE=REQ-PARTICIPANT;PARTSTAT=ACCEPTED;RSVP=TRUE;CN=panos747:
 https://blues.gr/profile/panos747
END:VEVENT
END:VCALENDAR
