BEGIN:VCALENDAR
PRODID:NingEventWidget-v1
VERSION:2.0
METHOD:PUBLISH
BEGIN:VTIMEZONE
TZID:Europe/Athens
X-LIC-LOCATION:Europe/Athens
BEGIN:DAYLIGHT
TZOFFSETFROM:+0200
TZOFFSETTO:+0300
TZNAME:EEST
DTSTART:19700329T030000
RRULE:FREQ=YEARLY;BYMONTH=3;BYDAY=-1SU
END:DAYLIGHT
BEGIN:STANDARD
TZOFFSETFROM:+0300
TZOFFSETTO:+0200
TZNAME:EET
DTSTART:19701025T040000
RRULE:FREQ=YEARLY;BYMONTH=10;BYDAY=-1SU
END:STANDARD
END:VTIMEZONE
BEGIN:VEVENT
UID:1982923:Event:110166
DTSTAMP:20260420T041831Z
SUMMARY:Pat Martino @ Ωδείο Τέχνης Φακανά
DESCRIPTION:PAT MARTINI GROUP\nστο ΑΘΗΝΑ΄ Live(μέσα στ
  Ωδείο Τέχνης Γ. Β. Φακανάς)Παρασκευή 21
  και Σάββατο 22 Οκτωβρίου '11«Ξυπνώντας 
 πό τη νάρκωση κοίταξε τους γονείς του 
 και τους γιατρούς, προσπαθώντας να συν
 αρμολογήσει μνήμες της ζωής του».Ο Pat Ma
 rtino, ένας από τους πιο αυθεντικούς, βασ
 σμένους στη Jazz, κιθαρίστες της δεκαετ
 ας του '60, έκανε την επιστροφή του στη 
 ουσική, μετά από μια εγχείρηση στον εγ
 κέφαλο όπου έχασε τη μνήμη του, καθώς κ
 αι την ικανότητά του να παίζει.Του πήρ
  χρόνια, αλλά τελικά ανέκτησε την ικαν
 ότητα του στην κιθάρα, (κυρίως ακούγον
 ας παλαιότερες ηχογραφήσεις του), αγγ
 ζοντας και πάλι την κορυφή στο είδος τ
 ου.Ξεκίνησε να παίζει επαγγελματικά σ
  ηλικία 15 χρονών. Από τότε  που έπαιξε 
 τις πρώτες του νότες, αναγνωρίστηκε σα
 ν ένας από τους πιο βιρτουόζους κιθαρί
 στες της Jazz.Με τον ξεχωριστό «παχύ»  τ
 υ ήχο, είναι αναμφίβολα ένας μουσικός 
 με υψηλή τεχνική, ενέργεια και ψυχή.Πρ
 τη του επιρροή ο πατέρας του, που τραγ
 υδούσε σε τοπικά club, τον οποίο πάντα θ
 ύμαζε και προσπαθούσε να εντυπωσιάσε
 . Αυτός του ο θαυμασμός του έδωσε την ώ
 θηση να δει σοβαρά τη δημιουργική του 
 άση, όπως λέει ο ίδιος.Ξεκίνησε παίζον
 τας σε rock σχήματα, αλλά σύντομα μετακό
 ισε στο Harlem για να βυθιστεί περισσότε
 ο στη soul jazz. Στα 20 του δημιουργεί το δι
 ό του group και βγάζει το πρώτο του album “S
 trings” με την εταιρεία Prestige Records.  Ακολο
 θεί μία σειρά ηχογραφήσεων (El Hombre, East, B
 aiyina, Desperado, Joyous Lake κλπ). Το 1976 γίνεται η δ
 ιάγνωση του προβλήματος της υγείας το
 , που αποτέλεσμα είχε την απώλεια της 
 νήμης του ενώ το 1987 μετά από έναν τερά
 τιο αγώνα επιστρέφει στη μουσική σκην
 ή με ένα cd που ηχογραφήθηκε live και είχε
  τον τίτλο «The Return». Ακολούθησαν πολλές
  δισκογραφικές δουλειές (Interchange, Nightwings,
  The Maker, Stone Blue, Live at Yoshi’s κλπ )Σεμινάριο 
 πό τον Pat Martino: Σάββατο 22/ 10/ 11  ώρα 13.00 μ.
 μ.\n\nFor more information visit https://blues.gr/events/pat-martino-
 1
DTSTART;TZID=Europe/Athens:20111021T210000
DTEND;TZID=Europe/Athens:20111022T233000
CATEGORIES:live
LOCATION:ΑΘΗΝΑ΄ Live - Ωδείο Τέχνης Φακανά
WEBSITE:http://www.fakanas.gr
URL:http://www.fakanas.gr
CONTACT:210-4813605
ORGANIZER:Ωδείο Τέχνης Φακανά
ATTACH;FMTTYPE="image/jpeg":http://storage.ning.com/topology/rest/1.0/
 file/get/2252954070?profile=original
ATTENDEE;ROLE=REQ-PARTICIPANT;PARTSTAT=ACCEPTED;RSVP=TRUE;CN="Music Ne
 twork by Michael Limnios":https://blues.gr/profile/MichalisLimnios
END:VEVENT
END:VCALENDAR
