BEGIN:VCALENDAR
PRODID:NingEventWidget-v1
VERSION:2.0
METHOD:PUBLISH
BEGIN:VTIMEZONE
TZID:Europe/Athens
X-LIC-LOCATION:Europe/Athens
BEGIN:DAYLIGHT
TZOFFSETFROM:+0200
TZOFFSETTO:+0300
TZNAME:EEST
DTSTART:19700329T030000
RRULE:FREQ=YEARLY;BYMONTH=3;BYDAY=-1SU
END:DAYLIGHT
BEGIN:STANDARD
TZOFFSETFROM:+0300
TZOFFSETTO:+0200
TZNAME:EET
DTSTART:19701025T040000
RRULE:FREQ=YEARLY;BYMONTH=10;BYDAY=-1SU
END:STANDARD
END:VTIMEZONE
BEGIN:VEVENT
UID:1982923:Event:107208
DTSTAMP:20260419T212224Z
SUMMARY:Pat Metheny Trio
DESCRIPTION:Μετά από 19 ολόκληρα χρόνια από τ
 ην τελευταία εμφάνισή του στην Ελλάδα 
 και στο πλαίσιο της πολύ επιτυχημένης 
 σειράς παρουσίασης των Jazz Masters στο Παλ
 άς, ο Pat Metheny με το καταπληκτικό τρίο το
 υ, τους Larry Grenadier (κοντραμπάσσο) και Bill St
 ewart (ντραμς),  επιστρέφει για μία και μο
 ναδική συναυλία στις 4 Δεκεμβρίου  2011 
 τις 9.00μ.μ., που σίγουρα θα αποτελέσει ..
 ...τη συναυλία της χρονιάς! O μοναδικός P
 at Metheny εκτός από ένα θρύλο της μουσικής
 , σίγουρα αποτελεί και την πλέον αναγν
 ρίσιμη μορφή τζαζ κιθαρίστα.  Ο γεννη
 ένος στο Kansas μάγος της κιθάρας,  με τη
  προτροπή και βοήθεια του μεγάλου βιμ
 ραφωνίστα Gary Burton, ως παιδί θαύμα της ε
 οχής από τα μέσα της δεκαετίας του 70’,
  σύντομα καθιερώθηκε ως ένας από τους 
 ιο επιφανείς καλλιτέχνες της διεθνού
  τζαζ σκηνής.  Με ένα απόλυτα προσωπικ
 ό ήχο και δικό του τρόπο παιξίματος, χρ
 ησιμοποιώντας παράλληλα με ευρηματικ
  τρόπο τη σύγχρονη τεχνολογία της μου
 ικής, ο Metheny θα γνωρίσει την παγκόσμια 
 επιτυχία και θα ταυτιστεί με μια εικόν
 α κι αναγνώριση ενός... σχεδόν pop ειδώλο
 υ! Στα 36 αυτά χρόνια της παρουσίας του 
 την πρώτη γραμμή της τζαζ (και όχι μόν
 ),  είχε συνεργασίες που ποικίλλουν αν
 άμεσα σε κορυφαίους της μουσικής όπως 
 ο David Bowie, ο Herbie Hancock, ο Ornette Coleman, η Joni Mitchel
 l, ο Chick Corea, ο Dave Holland, ο μεγάλος Pastorius, με 
 Charlie Haden και πολλούς άλλους. Πραγματοπο
 ιώντας περισσότερες από 120 συναυλίες τ
 ο χρόνο και πολλές φορές φτάνοντας μέχ
 ρι και τις 200 (!) και με 17 κερδισμένα Grammie
 s σε 10 διαφορετικές κατηγορίες, με δεκά
 δες βραβευμένους δίσκους, ο Pat Metheny συν
 χίζει να συνθέτει και να εμφανίζεται 
 ε τα διαφορετικά του project ως ένας μύθο
  στο χώρο της αυτοσχεδιαστικής μουσικ
 ής.\n\n\nFor more information visit https://blues.gr/events/pat-meth
 eny-trio
DTSTART;TZID=Europe/Athens:20111204T210000
DTEND;TZID=Europe/Athens:20111204T233000
CATEGORIES:live
LOCATION:Θέατρο Παλλάς
WEBSITE:http://www.ellthea.gr
URL:http://www.ellthea.gr
CONTACT:210 3213100
ORGANIZER:ΕΛΛΗΝΙΚΗ ΘΕΑΜΑΤΩΝ
ATTACH;FMTTYPE="image/jpeg":http://storage.ning.com/topology/rest/1.0/
 file/get/2252952838?profile=original
ATTENDEE;ROLE=REQ-PARTICIPANT;PARTSTAT=ACCEPTED;RSVP=TRUE;CN="Theo and
  The Boogie Sinners":https://blues.gr/profile/AlexiouTheodoros
ATTENDEE;ROLE=REQ-PARTICIPANT;PARTSTAT=ACCEPTED;RSVP=TRUE;CN="The Boog
 ie Sinners":https://blues.gr/profile/TheBoogieSinners
ATTENDEE;ROLE=REQ-PARTICIPANT;PARTSTAT=ACCEPTED;RSVP=TRUE;CN="Music Ne
 twork by Michael Limnios":https://blues.gr/profile/MichalisLimnios
ATTENDEE;ROLE=REQ-PARTICIPANT;PARTSTAT=TENTATIVE;RSVP=TRUE;CN="Dimitri
 s Ioannou":https://blues.gr/profile/DimitrisIoannou
END:VEVENT
END:VCALENDAR
