BEGIN:VCALENDAR
PRODID:NingEventWidget-v1
VERSION:2.0
METHOD:PUBLISH
BEGIN:VTIMEZONE
TZID:Europe/Athens
X-LIC-LOCATION:Europe/Athens
BEGIN:DAYLIGHT
TZOFFSETFROM:+0200
TZOFFSETTO:+0300
TZNAME:EEST
DTSTART:19700329T030000
RRULE:FREQ=YEARLY;BYMONTH=3;BYDAY=-1SU
END:DAYLIGHT
BEGIN:STANDARD
TZOFFSETFROM:+0300
TZOFFSETTO:+0200
TZNAME:EET
DTSTART:19701025T040000
RRULE:FREQ=YEARLY;BYMONTH=10;BYDAY=-1SU
END:STANDARD
END:VTIMEZONE
BEGIN:VEVENT
UID:1982923:Event:345818
DTSTAMP:20260422T175937Z
SUMMARY:PATRICIA BARBER
DESCRIPTION:Η εξαιρετική και πάντα εφευρετι
 κή Patricia Barber, έρχεται για πρώτη φορά στη
 ν Αθήνα και στo Main Stage του Gazarte, το Σάββα
 ο 30 Νοεμβρίου, για να μας ταξιδέψει στ
  σύγχρονα μονοπάτια της τζαζ σκηνής, μ
 ε το μοναδικό στιλ και την ξεχωριστή φ
 νή της! Η χαρισματική και δημιουργικά 
 ανήσυχη τραγουδοποιός και πιανίστρια 
 από το Σικάγο, έχοντας επιρροές από Debus
 sy, Ravel, Reynaldo Hahn, και Fauré, έχει διαμορφώσε
 ι από την αρχή της καριέρας της τον δικ
 ό της αυθεντικό ήχο, που δικαίως χαρακ
 ηρίζεται ως «modern cool». Η μουσική και η π
 οίηση αποτελούν αναπόσπαστο κομμάτι τ
 ης ζωής της και για αυτό το λόγο ο ήχος 
 της είναι ένα κράμα ποιητικής αρτιότη
 ας και μουσικής καινοτομίας. Από το 2006
  με τον δίσκο της Mythologies, από τη Blue Note Reco
 rds, έως το πρόσφατο άλμπουμ Higher που απέ
 πασε διθυραμβικές κριτικές, κατορθών
 ι να αποθεώνεται από τους λάτρεις αυτ
 ύ του είδους μουσικής, για την φαντασί
 α και το ταλέντο της.\r\n\n\nFor more information visi
 t https://blues.gr/events/patricia-barber
DTSTART;TZID=Europe/Athens:20191130T180000
DTEND;TZID=Europe/Athens:20191130T190000
CATEGORIES:jazz
LOCATION:Gazarte
WEBSITE:
URL:
CONTACT:+30 210 3452277
ORGANIZER:Gazarte
ATTACH;FMTTYPE="image/jpeg":https://storage.ning.com/topology/rest/1.0
 /file/get/3671119521?profile=original
ATTENDEE;ROLE=REQ-PARTICIPANT;PARTSTAT=ACCEPTED;RSVP=TRUE;CN="Music Ne
 twork by Michael Limnios":https://blues.gr/profile/MichalisLimnios
END:VEVENT
END:VCALENDAR
