BEGIN:VCALENDAR
PRODID:NingEventWidget-v1
VERSION:2.0
METHOD:PUBLISH
BEGIN:VTIMEZONE
TZID:Europe/Athens
X-LIC-LOCATION:Europe/Athens
BEGIN:DAYLIGHT
TZOFFSETFROM:+0200
TZOFFSETTO:+0300
TZNAME:EEST
DTSTART:19700329T030000
RRULE:FREQ=YEARLY;BYMONTH=3;BYDAY=-1SU
END:DAYLIGHT
BEGIN:STANDARD
TZOFFSETFROM:+0300
TZOFFSETTO:+0200
TZNAME:EET
DTSTART:19701025T040000
RRULE:FREQ=YEARLY;BYMONTH=10;BYDAY=-1SU
END:STANDARD
END:VTIMEZONE
BEGIN:VEVENT
UID:1982923:Event:272191
DTSTAMP:20260422T125921Z
SUMMARY:Pavlov's Dog @ Athens - Thessaloniki
DESCRIPTION:Εάν μια μπάντα δικαιούται τον τ
 τλο της «μοναδικής», τότε δικαιωματικ
 ά ανήκει στο φαινόμενο Pavlov’s Dog από της
  ΗΠΑ. Όταν οι Pavlov’s Dog υπέγραψαν δισκογ
 αφικό συμβόλαιο με την ABC το ’74 για το 
 εξωφρενικό για την εποχή ποσό των 650.000 
 δολαρίων, ήταν η πιο ακριβοπληρωμένη α
 νερχόμενη μπάντα στον κόσμο. Το ντεμπο
 ύτο τους «Pampered Menial» ψηφίστηκε από το Moj
 o Magazine στις Top-30 πιο σημαντικές Prog-Rock κυ
 λοφορίες όλων των εποχών. Η μοναδική φ
 ωνή και παθιασμένη ερμηνεία του David Surka
 mp όμως αποδείχτηκε πολύ ιδιαίτερη για 
 το mainstream ραδιόφωνο της εποχής με συνέπ
 εια τη διάλυση της μπάντας το 1977.  Μετά 
 από σχεδόν 30 χρόνια και φήμες για τον θ
 άνατο του David Surkamp, οι Pavlov’s Dog επανασυν
 έθηκαν το 2004 για ένα επετειακό live το ο
 οίο και μετάδωσε ζωντανά η Microsoft. Έπει
 α από την τρομερή ανταπόκριση και ενθ
 υσιασμό με τον οποίο οι οπαδοί υποδέχ
 ηκαν τα νέα, ο David Surkamp αποφάσισε να επα
 ναδραστηριοποιήσει τη μπάντα. Το 2010 κυ
 κλοφόρησαν το «Echo & Boo» που έλαβε διεθν
  αναγνώριση και το 2016 ένα διπλό live CD/DVD 
 με τίτλο «House Broken».  Το τελευταίο τους ά
 λμπουμ με τίτλο «Prodigal Dreamer» κυκλοφόρησ
 ε τον Δεκέμβριο του ‘18 και ήδη ψηφίστη
 κε ως το καλύτερο αλμπουμ του μήνα και 
 ως μία από της καλύτερες κυκλοφορίες τ
 ης χρονιάς από το Eclipsed Magazine (Germany) ενώ π
 ρε το βραβείο «Hall of Fame Award» από το Breakout 
 Magazine. Έρχονται στην Ελλάδα για δύο εμφ
 νίσεις , την Παρασκευή 22 Νοεμβρίου στο
  ιστορικό Κύτταρο στην Αθήνα, και το Σά
 ββατο 23 Νοεμβρίου στο Eightball στην Θεσσα
 ονίκη. Η ηλεκτρονική προπώληση στα 20 ε
 υρώ (early bird) αναμένεται να ξεκινήσει τι
  επόμενες μέρες.\r\n\r\n\n\nFor more information visit h
 ttps://blues.gr/events/pavlov-s-dog
DTSTART;TZID=Europe/Athens:20191122T000000
DTEND;TZID=Europe/Athens:20191123T235900
CATEGORIES:rock
LOCATION:Κύτταρο Live (Athens) - Eightball (Thessaloniki)
WEBSITE:https://m.facebook.com/pavlovsdogband
URL:https://m.facebook.com/pavlovsdogband
CONTACT:
ORGANIZER:Demons Gate Productions
ATTACH;FMTTYPE="image/jpeg":https://storage.ning.com/topology/rest/1.0
 /file/get/920897544?profile=original
ATTENDEE;ROLE=REQ-PARTICIPANT;PARTSTAT=ACCEPTED;RSVP=TRUE;CN="Music Ne
 twork by Michael Limnios":https://blues.gr/profile/MichalisLimnios
END:VEVENT
END:VCALENDAR
