BEGIN:VCALENDAR
PRODID:NingEventWidget-v1
VERSION:2.0
METHOD:PUBLISH
BEGIN:VTIMEZONE
TZID:Europe/Athens
X-LIC-LOCATION:Europe/Athens
BEGIN:DAYLIGHT
TZOFFSETFROM:+0200
TZOFFSETTO:+0300
TZNAME:EEST
DTSTART:19700329T030000
RRULE:FREQ=YEARLY;BYMONTH=3;BYDAY=-1SU
END:DAYLIGHT
BEGIN:STANDARD
TZOFFSETFROM:+0300
TZOFFSETTO:+0200
TZNAME:EET
DTSTART:19701025T040000
RRULE:FREQ=YEARLY;BYMONTH=10;BYDAY=-1SU
END:STANDARD
END:VTIMEZONE
BEGIN:VEVENT
UID:1982923:Event:114198
DTSTAMP:20260420T042006Z
SUMMARY:Penny And The Swingin' Cats
DESCRIPTION:Με χρονομηχανή που τρέχει από δ
 εκαετία σε δεκαετία και κύριο ηχόχρωμ
  το swing, που το ακολουθούν πιστά το jive κ
 αι τo charleston, το μουσικό συγκρότημα Penny & 
 the Swingin’ Cats παίζει, τραγουδά και χορεύε
 ι φτάνοντας ως στις μέρες μας, με διασκ
 ευές πρόσφατων κομματιών της soul-funk αλλ
 ά και με δικά τους ολόφρεσκα τραγούδια
 . Πέννυ Μπαλτατζή (φωνή & kazoo), Γιώργος Ζ
 ρβός (ηλεκτρική κιθάρα & φωνή), Μάριος 
 αληνάκης (σαξόφωνο), Γιώργος Βεντουρή
  (κοντραμπάσο), Ορέστης Γράβαρης (τύμπ
 να).\n\n\nFor more information visit https://blues.gr/events/penny-
 and-the-swingin-cats
DTSTART;TZID=Europe/Athens:20111021T220000
DTEND;TZID=Europe/Athens:20111022T010000
CATEGORIES:live
LOCATION:FLORAL
WEBSITE:http://www.floralcafe.gr
URL:http://www.floralcafe.gr
CONTACT:210 3800070
ORGANIZER:Floral
ATTACH;FMTTYPE="image/jpeg":http://storage.ning.com/topology/rest/1.0/
 file/get/2252956375?profile=original
ATTENDEE;ROLE=REQ-PARTICIPANT;PARTSTAT=ACCEPTED;RSVP=TRUE;CN="Music Ne
 twork by Michael Limnios":https://blues.gr/profile/MichalisLimnios
END:VEVENT
END:VCALENDAR
