BEGIN:VCALENDAR
PRODID:NingEventWidget-v1
VERSION:2.0
METHOD:PUBLISH
BEGIN:VTIMEZONE
TZID:Europe/Athens
X-LIC-LOCATION:Europe/Athens
BEGIN:DAYLIGHT
TZOFFSETFROM:+0200
TZOFFSETTO:+0300
TZNAME:EEST
DTSTART:19700329T030000
RRULE:FREQ=YEARLY;BYMONTH=3;BYDAY=-1SU
END:DAYLIGHT
BEGIN:STANDARD
TZOFFSETFROM:+0300
TZOFFSETTO:+0200
TZNAME:EET
DTSTART:19701025T040000
RRULE:FREQ=YEARLY;BYMONTH=10;BYDAY=-1SU
END:STANDARD
END:VTIMEZONE
BEGIN:VEVENT
UID:1982923:Event:110649
DTSTAMP:20260422T132435Z
SUMMARY:Penny And The Swinging Cats @ 	Ηράκλειο Κρήτης
DESCRIPTION:Οι Penny and the swinging cats θα μας διασκε
 άσουν , διασκευάζοντας κομμάτια της sou
 l, blues, jazz και funk μουσικής.\nPenny & The swingin’ c
 ats: Πέννυ Μπαλτατζή -φωνή, kazoo, Μάριος Βα
 ληνάκης -σαξόφωνο, Γιώργος Ζερβός -κιθ
 ρα, φωνή, Γιώργος Βεντουρής -κοντραμπά
 σο, Ορέστης Γράβαρης -τύμπανα.\n\nFor more inf
 ormation visit https://blues.gr/events/penny-and-the-swinging-cats
DTSTART;TZID=Europe/Athens:20110924T200000
DTEND;TZID=Europe/Athens:20110924T233000
CATEGORIES:live
LOCATION:Πάρκο Γεωργιάδη
WEBSITE:http://www.myspace.com/pennybaltatzi
URL:http://www.myspace.com/pennybaltatzi
CONTACT:
ORGANIZER:
ATTACH;FMTTYPE="image/jpeg":http://storage.ning.com/topology/rest/1.0/
 file/get/2252955058?profile=original
ATTENDEE;ROLE=REQ-PARTICIPANT;PARTSTAT=ACCEPTED;RSVP=TRUE;CN="Music Ne
 twork by Michael Limnios":https://blues.gr/profile/MichalisLimnios
END:VEVENT
END:VCALENDAR
