BEGIN:VCALENDAR
PRODID:NingEventWidget-v1
VERSION:2.0
METHOD:PUBLISH
BEGIN:VTIMEZONE
TZID:Europe/Athens
X-LIC-LOCATION:Europe/Athens
BEGIN:DAYLIGHT
TZOFFSETFROM:+0200
TZOFFSETTO:+0300
TZNAME:EEST
DTSTART:19700329T030000
RRULE:FREQ=YEARLY;BYMONTH=3;BYDAY=-1SU
END:DAYLIGHT
BEGIN:STANDARD
TZOFFSETFROM:+0300
TZOFFSETTO:+0200
TZNAME:EET
DTSTART:19701025T040000
RRULE:FREQ=YEARLY;BYMONTH=10;BYDAY=-1SU
END:STANDARD
END:VTIMEZONE
BEGIN:VEVENT
UID:1982923:Event:40986
DTSTAMP:20260421T235003Z
SUMMARY:RANDY MCALLISTER BAND
DESCRIPTION:RANDY MCALLISTER\n2002 Grammy nominee\nBest Texas Harmonic
 a 1999\nBest Texas Band 1999\n\nhttp://www.randymcallister.com\n\n\nΟ
  Randy McAllister είναι ένας από τους καλύτερο
 υς τραγουδιστές, τραγουδοποιούς, και π
 ολύ-οργανίστες που έχουν ξεπηδήσει απ
  το Τέξας.\nΣτη σκηνή τραγουδάει και πα
 ίζει ταυτόχρονα και με την ίδια ευκολί
 α, φυσαρμόνικα, τύμπανα και washboard, ενώ τ
 α τραγούδια του χαρακτηρίζονται από α
 θεντικότητα και καινοτομίες, που τον 
 οποθετούν ανάμεσα στους σημαντικότερ
 ους τραγουδοποιούς του σύγχρονου μπλο
 υζ.\n\nΑποφεύγοντας τις συγκρίσεις, θα έ
 λεγε κάποιος ότι η μουσική του είναι έ
 ας σταυρός μεταξύ Doug Sahm, John Hiatt και Delbert
  McClinton, με το υπόβαθρο και τις ευαισθησ
 ες ενός μπλουζμαν να μπαίνουν στο μίγ
 α.\n\nΕίναι ένας από εκείνους τους σπάν
 ους καλλιτέχνες, που είναι σε θέση να 
 υγχωνεύσει το gospel, με τα blues και την count
 ry, το Τex-Mex, το rock και το zydeco και να παρου
 σιάσει ένα είδος που φέρνει τη σφραγίδ
 α του.\n\nΣτα τραγούδια του συνδυάζεται 
 μια ακατάπαυστη ενέργεια και ένταση μ
  λυρικά ποιήματα που σκάβουν σε σκληρ
  θέματα.\nΑπό την αστική βία, την έλλει
 η στέγης και άλλες δύσκολες πραγματικ
 ότητες, στις πιο κοινές ανησυχίες όπως
  η αγάπη, η εγκατάλειψη και ο πόνος.\nΗ π
 ροσέγγιση στα θέματά του είναι ιδιαίτ
 ρα επιδέξια, ικανή να είναι ειλικρινή
  και αστεία μαζί.\n\nΟ Randy McAllister παίρνει 
 καθολικά συναισθήματα και τα μεταφράζ
 ει στην πραγματικότητα του σήμερα, τρα
 γουδώντας τα με μια ξεχωριστή soul φωνή.\
 nΣτη δισκογραφία του περιλαμβάνονται 
 ννέα άλμπουμ, με τις καλύτερες κριτικ
 ς, ξεκινώντας από το “Diggin’ for sofa change” 
 - 1997, “Grease, Grit, Dirt and Spit”-1998, “Double Rectified Bu
 st Head”- 1999 το υποψήφιο για το Grammy 2002 “Give
 rs and Takers”, “Temporary Fixes”- 2000, “Little Left In The C
 enter”- 2001, “Dope Slap Soup”- 2007, “Ain’t Like The Movies
 ” – 2008 και “Be Like Water” – 2009.\nΣτην Ελλάδ
 α εμφανίζεται για πρώτη φορά στο Blues Hall
  της Αθήνας στα 1997 και 1998, προσκεκλημέν
 ος της Red Rooster, η οποία διοργανώνει και 
 υτή την περιοδεία του.\nΜαζί του η Jodie Wo
 odward - μπάσο και ο Νίκος Ντουνούσης (ex Blue
 s Wire), κιθαρίστας των Backbone – κιθάρα.\n\nFor
  more information visit https://blues.gr/events/randy-mcallister-band-
 2
DTSTART;TZID=Europe/Athens:20100219T230000
DTEND;TZID=Europe/Athens:20100220T010000
CATEGORIES:blues
LOCATION:ΣΕΙΡΙΟΣ ΚΑΦΕ
WEBSITE:
URL:
CONTACT:
ORGANIZER;CN="JOHN ANGELATOS-Red Rooster Prod.":https://blues.gr/profi
 le/JohnAngelatos
ATTACH;FMTTYPE="image/jpeg":http://storage.ning.com/topology/rest/1.0/
 file/get/2252939153?profile=original
ATTENDEE;ROLE=REQ-PARTICIPANT;PARTSTAT=ACCEPTED;RSVP=TRUE;CN="JOHN ANG
 ELATOS-Red Rooster Prod.":https://blues.gr/profile/JohnAngelatos
END:VEVENT
END:VCALENDAR
