BEGIN:VCALENDAR
PRODID:NingEventWidget-v1
VERSION:2.0
METHOD:PUBLISH
BEGIN:VTIMEZONE
TZID:Europe/Athens
X-LIC-LOCATION:Europe/Athens
BEGIN:DAYLIGHT
TZOFFSETFROM:+0200
TZOFFSETTO:+0300
TZNAME:EEST
DTSTART:19700329T030000
RRULE:FREQ=YEARLY;BYMONTH=3;BYDAY=-1SU
END:DAYLIGHT
BEGIN:STANDARD
TZOFFSETFROM:+0300
TZOFFSETTO:+0200
TZNAME:EET
DTSTART:19701025T040000
RRULE:FREQ=YEARLY;BYMONTH=10;BYDAY=-1SU
END:STANDARD
END:VTIMEZONE
BEGIN:VEVENT
UID:1982923:Event:132486
DTSTAMP:20260421T183345Z
SUMMARY:RAY GELATO GIANTS
DESCRIPTION:RAY GELATO\nΧρόνος, η χρυσή περίοδος 
 ης δεκαετίας του 50 με την υπέροχη μουσ
 ική και  τους μοναδικούς entertainers .\nΤόπο
 ς, το Las Vegas .\nΟι ήχοι που ακούς μέσα στο 
 ζεστό βράδυ, καθώς περνάς οδηγώντας απ
 ό το Desert Inn,\nτη Sahara, το Sands, και τις άλλες
  αίθουσες καζίνο, είναι οι ήχοι του Louis 
 Prima\nκαι της Keely Smith, Dean Martin, The Treniers, Frank Sin
 atra και Nat King Cole .\nΕάν μόνο μπορούσες να 
 χεις ακούσει αυτή την υπέροχη  μουσικ
 ή , να αισθανθείς εκείνη τη διέγερση, ν
  γευτείς την ηλεκτρισμένη ατμόσφαιρα 
 …..\nΚι όμως, ακόμη και σήμερα υπάρχει μ
 ια μπάντα που αντανακλά εκείνο το πνεύ
 μα, εκείνη την ατμόσφαιρα και εκείνο τ
  είδος  της παράστασης.\nΕίναι καιρός 
 α ανακαλύψεις την πιο καυτή  μπάντα τ
 ς σκηνής του σήμερα,\nείναι καιρός να τ
 ιναχθείς στον αέρα από το εκρηκτικό swin
 g του Ray Gelato και των Giants, της μπάντας με 
 ο περισσότερο swing, σε ολόκληρο τον κόσ
 ο, της μπάντας που σε  προκαλεί ακόμη 
 αι χωρίς να το θέλεις, να κουνηθείς .\nΗ
  jazz όπως παιζόταν και τραγουδιόταν στη
 ν Αμερική  στις χρυσές δεκαετίες του 30
  του 40 και του 50 .\nΟ Louis Prima συναντάει το
  Louis Jordan, ο Duke Ellington τον Benny Goodman , ο  Illinois
  Jacket τον Ben Webster και τον Cole  Porter, και ο Ray 
 Gelato και οι Giants σε βομβαρδίζουν ακατάπα
 υστα με ρυθμό, χιούμορ, και καλή διάθεσ
 η .\n \n \n\nFor more information visit https://blues.gr/events/ray
 -gelato-giants
DTSTART;TZID=Europe/Athens:20120115T210000
DTEND;TZID=Europe/Athens:20120115T230000
CATEGORIES:swing, jive, jump
LOCATION:GAZARTE
WEBSITE:http://gazarte.gr
URL:http://gazarte.gr
CONTACT:210 3460347, ΚΑΙ 210 3452277
ORGANIZER:GAZARTE
ATTACH;FMTTYPE="image/jpeg":http://storage.ning.com/topology/rest/1.0/
 file/get/2252968134?profile=original
ATTENDEE;ROLE=REQ-PARTICIPANT;PARTSTAT=ACCEPTED;RSVP=TRUE;CN="JOHN ANG
 ELATOS-Red Rooster Prod.":https://blues.gr/profile/JohnAngelatos
END:VEVENT
END:VCALENDAR
