BEGIN:VCALENDAR
PRODID:NingEventWidget-v1
VERSION:2.0
METHOD:PUBLISH
BEGIN:VTIMEZONE
TZID:Europe/Athens
X-LIC-LOCATION:Europe/Athens
BEGIN:DAYLIGHT
TZOFFSETFROM:+0200
TZOFFSETTO:+0300
TZNAME:EEST
DTSTART:19700329T030000
RRULE:FREQ=YEARLY;BYMONTH=3;BYDAY=-1SU
END:DAYLIGHT
BEGIN:STANDARD
TZOFFSETFROM:+0300
TZOFFSETTO:+0200
TZNAME:EET
DTSTART:19701025T040000
RRULE:FREQ=YEARLY;BYMONTH=10;BYDAY=-1SU
END:STANDARD
END:VTIMEZONE
BEGIN:VEVENT
UID:1982923:Event:487143
DTSTAMP:20260420T041027Z
SUMMARY:Reverend Beat-Man in Athens
DESCRIPTION:Reverend Beat-Man is a One-Man Band started his career in 
 1986 as Lightning Beat-Man then changed his name to Reverend Beat-Man 
 in 1999, His music has its roots in the blues, but with a NOW TRASH! B
 orn in 1967 a year before the summer of hate, makes his first recordin
 gs as a 13 year old under the name Taeb Zerfall and putting it out on 
 his own Zerfall Tapes label... then 1986 founded the Monsters, and in 
 1984 changing the name from Taeb Zerfall to Lightning Beat-Man the Wre
 stling one man show... and then 1999 changed his name to REVEREND BEAT
 -MAN, 1992 founding the voodoo rhythm label. Reverend Beat-Man is not 
 only an One Man band, it is A MISSION and Mission for the Blues Trash 
 church... with only a Guitar a Kick Drum 1 Hi-Hat and a microphone Rev
 erend Beat-Man tells you story's about Dead, the Live about killing an
 d about the lost love and about seeing the Light ..this is kinda a new
  way to preach the Gospel to the people, it's all very raw and primiti
 ve with a lot of Blues Trash and Primitive Rock'n'Roll and Gospel musi
 c in it... and HE PREACHES! believe me brothers and sisters he will br
 ing you on the wrong track of live and then gets you back to the blues
  trash church!\r\n\n\nFor more information visit https://blues.gr/even
 ts/reverend-beat-man-in-athens
DTSTART;TZID=Europe/Athens:20220301T000000
DTEND;TZID=Europe/Athens:20220301T235900
CATEGORIES:blues, rock-n-roll, one-man-band
LOCATION:Beatniks Road Bar
WEBSITE:https://blues.gr/profiles/blogs/q-a-with-reverend-beat-man-not
 -only-a-one-man-band-it-is-a-missio
URL:https://blues.gr/profiles/blogs/q-a-with-reverend-beat-man-not-onl
 y-a-one-man-band-it-is-a-missio
CONTACT:21 5525 2880
ORGANIZER:Beatniks Road Bar
ATTACH;FMTTYPE="image/jpeg":https://storage.ning.com/topology/rest/1.0
 /file/get/10115545677?profile=original
ATTENDEE;ROLE=REQ-PARTICIPANT;PARTSTAT=ACCEPTED;RSVP=TRUE;CN="Music Ne
 twork by Michael Limnios":https://blues.gr/profile/MichalisLimnios
END:VEVENT
END:VCALENDAR
