BEGIN:VCALENDAR
PRODID:NingEventWidget-v1
VERSION:2.0
METHOD:PUBLISH
BEGIN:VTIMEZONE
TZID:Europe/Athens
X-LIC-LOCATION:Europe/Athens
BEGIN:DAYLIGHT
TZOFFSETFROM:+0200
TZOFFSETTO:+0300
TZNAME:EEST
DTSTART:19700329T030000
RRULE:FREQ=YEARLY;BYMONTH=3;BYDAY=-1SU
END:DAYLIGHT
BEGIN:STANDARD
TZOFFSETFROM:+0300
TZOFFSETTO:+0200
TZNAME:EET
DTSTART:19701025T040000
RRULE:FREQ=YEARLY;BYMONTH=10;BYDAY=-1SU
END:STANDARD
END:VTIMEZONE
BEGIN:VEVENT
UID:1982923:Event:248758
DTSTAMP:20260422T141155Z
SUMMARY:RHYTHM BLAST...rhythm&blues μέχρι country και Rock‘n
 ’ roll.
DESCRIPTION:Παρασκευή 4/11\nRHYTHM BLAST\nΖώτος Κωνσ
 ταντίνος: πιάνο-φωνή, Κουρομιχελάκης Ν
 ικόλαος: κιθάρα, Aναστασίου Γεώργιος: μ
 πάσο-φωνή, Πάσσιος Λεωνίδας: ντραμς-φω
 ή.\n Oι Rhythm Blast είναι ένα 50's- 60’sRockabilly - Ro
 ck 'n' Roll -styleσυγκρότημα από την Αθήνα.Με 
 ουσικές επιρροές και έντονα στοιχεία 
 από Rock‘n’ roll, rhythm&blues μέχρι country και blues,
  ερμηνεύουν και διασκευάζουν διάφορα 
 ομμάτια καθώς και δικές τους δημιουργ
 ίες.Η μουσική και ο ρυθμός τους μας υπε
 νθυμίζουν ότι όλοι τελικά είμαστε “Νο
 σταλγοί του Rock'n Roll”.\nΕίσοδος ελεύθερη
 . Ελάχιστη κατανάλωση 5 ευρώ.\n \n\nFor more in
 formation visit https://blues.gr/events/rhythm-blast-rhythm-blues-coun
 try-rock-n-roll
DTSTART;TZID=Europe/Athens:20161104T223000
DTEND;TZID=Europe/Athens:20161105T020000
CATEGORIES:blues, "&", "rock."
LOCATION:LAZY CLUB
WEBSITE:http://www.lazy.gr
URL:http://www.lazy.gr
CONTACT:210 6895535
ORGANIZER;CN="Spiros Dramitinos":https://blues.gr/profile/SpirosDramit
 inos
ATTACH;FMTTYPE="image/jpeg":http://storage.ning.com/topology/rest/1.0/
 file/get/2253051354?profile=original
ATTENDEE;ROLE=REQ-PARTICIPANT;PARTSTAT=ACCEPTED;RSVP=TRUE;CN="Spiros D
 ramitinos":https://blues.gr/profile/SpirosDramitinos
END:VEVENT
END:VCALENDAR
