BEGIN:VCALENDAR
PRODID:NingEventWidget-v1
VERSION:2.0
METHOD:PUBLISH
BEGIN:VTIMEZONE
TZID:Europe/Athens
X-LIC-LOCATION:Europe/Athens
BEGIN:DAYLIGHT
TZOFFSETFROM:+0200
TZOFFSETTO:+0300
TZNAME:EEST
DTSTART:19700329T030000
RRULE:FREQ=YEARLY;BYMONTH=3;BYDAY=-1SU
END:DAYLIGHT
BEGIN:STANDARD
TZOFFSETFROM:+0300
TZOFFSETTO:+0200
TZNAME:EET
DTSTART:19701025T040000
RRULE:FREQ=YEARLY;BYMONTH=10;BYDAY=-1SU
END:STANDARD
END:VTIMEZONE
BEGIN:VEVENT
UID:1982923:Event:187206
DTSTAMP:20260424T132739Z
SUMMARY:Rhythm & Blues βραδιά στο Verve Μusic Cafe
DESCRIPTION:Blues Rock N Roll βραδιά στο Verve, τη Παρα
 σκευή 11 Οκτωβρίου!Ολα τα κομμάτια του 
 μερικανικής κουλτούρας από το Memphis, τη
  Νεα Ορλέανη, το Chicago και το Τέξας σε μι
  DJ set βραδιά με πολύ rhythm n blues και funky ρυθ
 μους σε ένα αγαπημένο μαγαζί, το Verve Music
  Café στο κέντρο της Αθήνας.Αυτή τη φορά 
 θα με βρείτε πίσω από τα decks να παίζω μο
 υσική!\n\nFor more information visit https://blues.gr/events/rhyt
 hm-blues-verve-usic-cafe
DTSTART;TZID=Europe/Athens:20131011T000000
DTEND;TZID=Europe/Athens:20131011T235900
CATEGORIES:dj, set
LOCATION:Verve Music Cafe
WEBSITE:
URL:
CONTACT:
ORGANIZER:Theodore Alexiou
ATTACH;FMTTYPE="image/jpeg":http://storage.ning.com/topology/rest/1.0/
 file/get/2253010797?profile=original
ATTENDEE;ROLE=REQ-PARTICIPANT;PARTSTAT=ACCEPTED;RSVP=TRUE;CN="The Boog
 ie Sinners":https://blues.gr/profile/TheBoogieSinners
END:VEVENT
END:VCALENDAR
