BEGIN:VCALENDAR
PRODID:NingEventWidget-v1
VERSION:2.0
METHOD:PUBLISH
BEGIN:VTIMEZONE
TZID:Europe/Athens
X-LIC-LOCATION:Europe/Athens
BEGIN:DAYLIGHT
TZOFFSETFROM:+0200
TZOFFSETTO:+0300
TZNAME:EEST
DTSTART:19700329T030000
RRULE:FREQ=YEARLY;BYMONTH=3;BYDAY=-1SU
END:DAYLIGHT
BEGIN:STANDARD
TZOFFSETFROM:+0300
TZOFFSETTO:+0200
TZNAME:EET
DTSTART:19701025T040000
RRULE:FREQ=YEARLY;BYMONTH=10;BYDAY=-1SU
END:STANDARD
END:VTIMEZONE
BEGIN:VEVENT
UID:1982923:Event:41088
DTSTAMP:20260424T144855Z
SUMMARY:ROCK AND BLUES EVERY NIGHT LIVE EVENTS. 29 JAN. -  3 FEB. 2010
DESCRIPTION:ΠΑΡΑΣΚΕΥΗ 29/01/2010\nTRAP... ΕΛΛΗΝΙΚΟ RO
 CK - ΔΙΑΣΚΕΥΕΣ ΠΑΝΩ ΣΤΟ NEW ROCK ΣΑΒΒΑΤΟ 30/01/
 2010\nVAVOURA BAND - 33 ΧΡΟΝΙΑ - ΘΡΥΛΟΣ ΤΟΥ ROCK ΣΤΗ
 Ν ΕΛΛΑΔΑ\nΚΥΡΙΑΚΗ 31/01/2010\nMICHAEL DOTSON AND THE BLU
 ES BAND ............... ΜΕΓΑΛΟ ΟΝΟΜΑ ΣΤΟ CHICAGO BLUES w
 ww.michaeldotsonblues.com\nΔΕΥΤΕΡΑ 01/02/2010\nJAM NIGHT ......
 ΑΝ ΘΡΗΣΚΕΙΑ ΣΟΥ ΤΟ BLUES ΚΑΙ TO ROCK - ANEBA ΣΤΗ 
 ΣΚΗΝΗ TOY LAZY\nΤΕΤΑΡΤΗ 03/02/2010\nΣΤΗΝ BANDA // 90 
 ΟΙΡΕΣ ..... ΔΥΟ ΜΠΑΝΤΕΣ ΜΕ POP / ROCK / LATIN ΜΕΧ
 ΡΙ FUNK / DISCO\n\nFor more information visit https://blues.gr/event
 s/rock-and-blues-every-night
DTSTART;TZID=Europe/Athens:20100129T180000
DTEND;TZID=Europe/Athens:20100129T190000
CATEGORIES:gala-performances, on, the, rock, and, "blues."
LOCATION:THE LAZY ROCK AND BLUES CLUB - EVER LIVE
WEBSITE:http://maps.google.com/maps?f=q&source=s_q&hl=en&q=%CE%9B%CE%B
 5%CF%89%CF%86%CF%8C%CF%81%CE%BF%CF%82+%CE%A0%CE%B5%CE%BD%CF%84%CE%AD%C
 E%BB%CE%B7%CF%82+1,+%CE%92%CF%81%CE%B9%CE%BB%CE%AE%CF%83%CF%83%CE%B9%C
 E%B1+15235,+%CE%91%CE%B8%CE%AE%CE%BD%CE%B1,+Greece&sll=20.632784,-81.3
 86719&sspn=34.805689,56.162109&ie=UTF8&cd=5&geocode=FRdcRAId0YNrAQ&spl
 it=0&hq=&hnear=%CE%9B%CE%B5%CF%89%CF%86%CF%8C%CF%81%CE%BF%CF%82+%CE%A0
 %CE%B5%CE%BD%CF%84%CE%AD%CE%BB%CE%B7%CF%82+1,+%CE%92%CF%81%CE%B9%CE%BB
 %CE%AE%CF%83%CF%83
URL:http://maps.google.com/maps?f=q&source=s_q&hl=en&q=%CE%9B%CE%B5%CF
 %89%CF%86%CF%8C%CF%81%CE%BF%CF%82+%CE%A0%CE%B5%CE%BD%CF%84%CE%AD%CE%BB
 %CE%B7%CF%82+1,+%CE%92%CF%81%CE%B9%CE%BB%CE%AE%CF%83%CF%83%CE%B9%CE%B1
 +15235,+%CE%91%CE%B8%CE%AE%CE%BD%CE%B1,+Greece&sll=20.632784,-81.38671
 9&sspn=34.805689,56.162109&ie=UTF8&cd=5&geocode=FRdcRAId0YNrAQ&split=0
 &hq=&hnear=%CE%9B%CE%B5%CF%89%CF%86%CF%8C%CF%81%CE%BF%CF%82+%CE%A0%CE%
 B5%CE%BD%CF%84%CE%AD%CE%BB%CE%B7%CF%82+1,+%CE%92%CF%81%CE%B9%CE%BB%CE%
 AE%CF%83%CF%83
CONTACT:210 6895535
ORGANIZER;CN="Spiros Dramitinos":https://blues.gr/profile/SpirosDramit
 inos
ATTACH;FMTTYPE="image/jpeg":http://storage.ning.com/topology/rest/1.0/
 file/get/2252939626?profile=original
ATTENDEE;ROLE=REQ-PARTICIPANT;PARTSTAT=ACCEPTED;RSVP=TRUE;CN="Spiros D
 ramitinos":https://blues.gr/profile/SpirosDramitinos
END:VEVENT
END:VCALENDAR
