BEGIN:VCALENDAR
PRODID:NingEventWidget-v1
VERSION:2.0
METHOD:PUBLISH
BEGIN:VTIMEZONE
TZID:Europe/Athens
X-LIC-LOCATION:Europe/Athens
BEGIN:DAYLIGHT
TZOFFSETFROM:+0200
TZOFFSETTO:+0300
TZNAME:EEST
DTSTART:19700329T030000
RRULE:FREQ=YEARLY;BYMONTH=3;BYDAY=-1SU
END:DAYLIGHT
BEGIN:STANDARD
TZOFFSETFROM:+0300
TZOFFSETTO:+0200
TZNAME:EET
DTSTART:19701025T040000
RRULE:FREQ=YEARLY;BYMONTH=10;BYDAY=-1SU
END:STANDARD
END:VTIMEZONE
BEGIN:VEVENT
UID:1982923:Event:80362
DTSTAMP:20260421T235459Z
SUMMARY:ROCK N BLUES NIGHT-SIMOS TRIO BAND-BLUES THERAPY-
DESCRIPTION:ROCK N BLUES NIGHT-SIMOS TRIO BAND-BLUES THERAPY\n\nFor mo
 re information visit https://blues.gr/events/rock-n-blues-nightsimos-t
 rio-1
DTSTART;TZID=Europe/Athens:20101126T220000
DTEND;TZID=Europe/Athens:20101127T010000
CATEGORIES:live
LOCATION:ROOSTER'S..all day cafe bar.Live Music
WEBSITE:
URL:
CONTACT:210 3224 410
ORGANIZER;CN="tony dollaro":https://blues.gr/profile/tonydollaro
ATTACH;FMTTYPE="image/jpeg":http://storage.ning.com/topology/rest/1.0/
 file/get/2252936218?profile=original
ATTENDEE;ROLE=REQ-PARTICIPANT;PARTSTAT=ACCEPTED;RSVP=TRUE;CN="tony dol
 laro":https://blues.gr/profile/tonydollaro
ATTENDEE;ROLE=REQ-PARTICIPANT;PARTSTAT=TENTATIVE;RSVP=TRUE;CN="Antonis
  Kanaris":https://blues.gr/profile/AntonisKanaris
END:VEVENT
END:VCALENDAR
