BEGIN:VCALENDAR
PRODID:NingEventWidget-v1
VERSION:2.0
METHOD:PUBLISH
BEGIN:VTIMEZONE
TZID:Europe/Athens
X-LIC-LOCATION:Europe/Athens
BEGIN:DAYLIGHT
TZOFFSETFROM:+0200
TZOFFSETTO:+0300
TZNAME:EEST
DTSTART:19700329T030000
RRULE:FREQ=YEARLY;BYMONTH=3;BYDAY=-1SU
END:DAYLIGHT
BEGIN:STANDARD
TZOFFSETFROM:+0300
TZOFFSETTO:+0200
TZNAME:EET
DTSTART:19701025T040000
RRULE:FREQ=YEARLY;BYMONTH=10;BYDAY=-1SU
END:STANDARD
END:VTIMEZONE
BEGIN:VEVENT
UID:1982923:Event:80777
DTSTAMP:20260421T203248Z
SUMMARY:ROCK N BLUES NIGHT-SIMOS TRIO BAND-BLUES THERAPY-LIVE AT AFTER
  DARK
DESCRIPTION:ROCK N BLUES NIGHT-SIMOS TRIO BAND-BLUES THERAPY-LIVE AT A
 FTER DARK\n\nFor more information visit https://blues.gr/events/rock-n
 -blues-nightsimos-trio-2
DTSTART;TZID=Europe/Athens:20101217T220000
DTEND;TZID=Europe/Athens:20101218T010000
CATEGORIES:live
LOCATION:ΕΞΑΡΧΕΙΑ ΑΘΗΝΑ
WEBSITE:
URL:
CONTACT:210 3606 460
ORGANIZER;CN="tony dollaro":https://blues.gr/profile/tonydollaro
ATTACH;FMTTYPE="image/jpeg":http://storage.ning.com/topology/rest/1.0/
 file/get/2252946923?profile=original
ATTENDEE;ROLE=REQ-PARTICIPANT;PARTSTAT=ACCEPTED;RSVP=TRUE;CN="tony dol
 laro":https://blues.gr/profile/tonydollaro
END:VEVENT
END:VCALENDAR
