BEGIN:VCALENDAR
PRODID:NingEventWidget-v1
VERSION:2.0
METHOD:PUBLISH
BEGIN:VTIMEZONE
TZID:Europe/Athens
X-LIC-LOCATION:Europe/Athens
BEGIN:DAYLIGHT
TZOFFSETFROM:+0200
TZOFFSETTO:+0300
TZNAME:EEST
DTSTART:19700329T030000
RRULE:FREQ=YEARLY;BYMONTH=3;BYDAY=-1SU
END:DAYLIGHT
BEGIN:STANDARD
TZOFFSETFROM:+0300
TZOFFSETTO:+0200
TZNAME:EET
DTSTART:19701025T040000
RRULE:FREQ=YEARLY;BYMONTH=10;BYDAY=-1SU
END:STANDARD
END:VTIMEZONE
BEGIN:VEVENT
UID:1982923:Event:76484
DTSTAMP:20260424T193027Z
SUMMARY:ROCK N BLUES NIGHT-SIMOS TRIO BAND-BLUES THERAPY-
DESCRIPTION:VINILION CAFE..LIVE\nΕΙΣΟΔΟΣ..10 ΕΥΡΩ..ΠΟΤΟ
 .6 ΕΥΡΩ..BEER.4 EΥΡΩ..\n\nFor more information visit https://bl
 ues.gr/events/rock-n-blues-nightsimos-trio
DTSTART;TZID=Europe/Athens:20101029T220000
DTEND;TZID=Europe/Athens:20101030T130000
CATEGORIES:live
LOCATION:VINILION CAFE
WEBSITE:
URL:
CONTACT:210..26 92 640
ORGANIZER;CN="tony dollaro":https://blues.gr/profile/tonydollaro
ATTACH;FMTTYPE="image/jpeg":http://storage.ning.com/topology/rest/1.0/
 file/get/2252944604?profile=original
ATTENDEE;ROLE=REQ-PARTICIPANT;PARTSTAT=ACCEPTED;RSVP=TRUE;CN="Giannis 
 Pachidis":https://blues.gr/profile/ioannis
ATTENDEE;ROLE=REQ-PARTICIPANT;PARTSTAT=ACCEPTED;RSVP=TRUE;CN="tony dol
 laro":https://blues.gr/profile/tonydollaro
END:VEVENT
END:VCALENDAR
