BEGIN:VCALENDAR
PRODID:NingEventWidget-v1
VERSION:2.0
METHOD:PUBLISH
BEGIN:VTIMEZONE
TZID:Europe/Athens
X-LIC-LOCATION:Europe/Athens
BEGIN:DAYLIGHT
TZOFFSETFROM:+0200
TZOFFSETTO:+0300
TZNAME:EEST
DTSTART:19700329T030000
RRULE:FREQ=YEARLY;BYMONTH=3;BYDAY=-1SU
END:DAYLIGHT
BEGIN:STANDARD
TZOFFSETFROM:+0300
TZOFFSETTO:+0200
TZNAME:EET
DTSTART:19701025T040000
RRULE:FREQ=YEARLY;BYMONTH=10;BYDAY=-1SU
END:STANDARD
END:VTIMEZONE
BEGIN:VEVENT
UID:1982923:Event:84581
DTSTAMP:20260422T010845Z
SUMMARY:ROCK PARTY ΜΕ ΒΑΘΙΕΣ ΡΙΖΕΣ...LIVE ΒΡΑΔΙΑ Π
 ΟΥ ΔΕ ΧΑΝΕΤΑΙ.
DESCRIPTION: \nΣάββατο 18/12\nΛΟΥΚΑΣ ΣΙΔΕΡΑΣ ΤΡ
 ΙΟ\nΛουκάς Σιδεράς: ντραμς-φωνή, Σίμος 
 οκαβέσης:κιθάρα-φωνή, Νίκος Γιαννάτος
 : μπάσο\n Η ζωντανή ιστορία της ROCK στο LA
 ZY! O Λουκάς Σιδεράς (APHRODITE’S CHILD, YPSILON, DIESE
 L κ.α.) παρουσιάζει τη νέα του δισκογραφ
 ική δουλειά “BREAK” καθώς και κλασικές R
 OCK διασκευές με ένα POWER τρίο που τις ερμ
 ηνεύει με μοναδικό τρόπο! Το παιδί της 
 Αφροδίτης δεν θα μπορούσε να μην είναι
  θεϊκό!\n\nFor more information visit https://blues.gr/events/roc
 k-party-me-vathies
DTSTART;TZID=Europe/Athens:20101218T230000
DTEND;TZID=Europe/Athens:20101219T023000
CATEGORIES:δυνατο, live, με, "αναμνησεισ...."
LOCATION:LAZY ROCK AND BLUES CLUB
WEBSITE:
URL:
CONTACT:210 6895535
ORGANIZER;CN="Spiros Dramitinos":https://blues.gr/profile/SpirosDramit
 inos
ATTACH;FMTTYPE="image/jpeg":http://storage.ning.com/topology/rest/1.0/
 file/get/2252947373?profile=original
ATTENDEE;ROLE=REQ-PARTICIPANT;PARTSTAT=ACCEPTED;RSVP=TRUE;CN="Spiros D
 ramitinos":https://blues.gr/profile/SpirosDramitinos
END:VEVENT
END:VCALENDAR
