BEGIN:VCALENDAR
PRODID:NingEventWidget-v1
VERSION:2.0
METHOD:PUBLISH
BEGIN:VTIMEZONE
TZID:Europe/Athens
X-LIC-LOCATION:Europe/Athens
BEGIN:DAYLIGHT
TZOFFSETFROM:+0200
TZOFFSETTO:+0300
TZNAME:EEST
DTSTART:19700329T030000
RRULE:FREQ=YEARLY;BYMONTH=3;BYDAY=-1SU
END:DAYLIGHT
BEGIN:STANDARD
TZOFFSETFROM:+0300
TZOFFSETTO:+0200
TZNAME:EET
DTSTART:19701025T040000
RRULE:FREQ=YEARLY;BYMONTH=10;BYDAY=-1SU
END:STANDARD
END:VTIMEZONE
BEGIN:VEVENT
UID:1982923:Event:485706
DTSTAMP:20260419T160122Z
SUMMARY:Πρωτοπόροι Του Ελληνικού Rock (Live - Ha
 ppenings)
DESCRIPTION:Την Παρασκευή 5 Νοεμβρίου ο «Ναό
 ς του Rock» θα γεμίσει με «Πρωτοπόρους τ
 υ Ελληνικού Rock»!! Στο χώρο που πήραν το
  βάπτισμα του πυρός, ανδρώθηκαν και κα
 αξιώθηκαν οι περισσότεροι από τους 50 (
 !!) μουσικούς και συγκροτήματα που έδωσ
 αν την συνέντευξή της ζωής τους στον σ
 γγραφέα και παρέθεσε χωρίς περικοπές,
  θα πραγματοποιηθεί μια διαφορετική, ro
 ck, παρουσίαση βιβλίου του Γιάννη Αλεξί
 ου που γιορτάζει την δεύτερη έκδοσή τη
 ς. Live Rock Happenings, special guests, D.J. sets αποκλειστ
 ικά με βινύλια του Ελληνικού Rock, προβο
 ές και φυσικά ένα πάνελ με καταξιωμέν
 υς ανθρώπους της σκηνής μας, σας περιμ
 ένουν στο μεγάλο πάρτι του βιβλίου «Πρ
 ωτοπόροι του Ελληνικού Rock»!!!!!\r\n\n\nFor more
  information visit https://blues.gr/events/rock-party
DTSTART;TZID=Europe/Athens:20211105T000000
DTEND;TZID=Europe/Athens:20211105T235900
CATEGORIES:live, dj, happenings
LOCATION:Κύτταρο Live Club
WEBSITE:
URL:
CONTACT:
ORGANIZER:Ogdoo - Kyttaro Live Club
ATTACH;FMTTYPE="image/jpeg":https://storage.ning.com/topology/rest/1.0
 /file/get/9711776480?profile=original
ATTENDEE;ROLE=REQ-PARTICIPANT;PARTSTAT=ACCEPTED;RSVP=TRUE;CN="Music Ne
 twork by Michael Limnios":https://blues.gr/profile/MichalisLimnios
END:VEVENT
END:VCALENDAR
