BEGIN:VCALENDAR
PRODID:NingEventWidget-v1
VERSION:2.0
METHOD:PUBLISH
BEGIN:VTIMEZONE
TZID:Europe/Athens
X-LIC-LOCATION:Europe/Athens
BEGIN:DAYLIGHT
TZOFFSETFROM:+0200
TZOFFSETTO:+0300
TZNAME:EEST
DTSTART:19700329T030000
RRULE:FREQ=YEARLY;BYMONTH=3;BYDAY=-1SU
END:DAYLIGHT
BEGIN:STANDARD
TZOFFSETFROM:+0300
TZOFFSETTO:+0200
TZNAME:EET
DTSTART:19701025T040000
RRULE:FREQ=YEARLY;BYMONTH=10;BYDAY=-1SU
END:STANDARD
END:VTIMEZONE
BEGIN:VEVENT
UID:1982923:Event:230354
DTSTAMP:20260422T181501Z
SUMMARY:ROCKING THURSDAYS  SIMOS KOKAVESIS & BLUES Co.
DESCRIPTION:Πέμπτη 19/11\nROCKING THURSDAYS\nSIMOS KOKAVESIS & B
 LUES Co.\nΣίμος Κοκαβέσης: κιθάρα-φωνή, Μάν
 ος Δελώτης: μπάσο, Μανώλης Κουτσάκης: ν
 τραμς.\nΚΑΘΕ Πέμπτη... Ο Σίμος Κοκαβέσης
  και η Blues \"εταιρεία\" του, με blues-rock ύμνο
 υς, αλλά και originals απ' το \"Wild World\" album του
 .. Dire Straits, Alvin Lee, Peter Green, Jimmy Hendrix, Stevie Ray Vau
 ghan, Rory Gallagher, Παύλος Σιδηρόπουλος και α
 κετοί άλλοι καλλιτέχνες, \"συνθέτουν\" 
 το μουσικό ιστό κάθε βραδιάς...\nΕίσοδο
  ελεύθερη. Ελάχιστη κατανάλωση 5 ευρώ.\
 n \n\nFor more information visit https://blues.gr/events/rocking-thur
 sdays-simos-kokavesis-blues-co-1
DTSTART;TZID=Europe/Athens:20151119T223000
DTEND;TZID=Europe/Athens:20151120T020000
CATEGORIES:blues, "co.", "&", simos, "kokavesis."
LOCATION:LAZY CLUB
WEBSITE:http://www.lazy.gr
URL:http://www.lazy.gr
CONTACT:210 6895535
ORGANIZER;CN="Spiros Dramitinos":https://blues.gr/profile/SpirosDramit
 inos
ATTACH;FMTTYPE="image/jpeg":http://storage.ning.com/topology/rest/1.0/
 file/get/2253042855?profile=original
ATTENDEE;ROLE=REQ-PARTICIPANT;PARTSTAT=ACCEPTED;RSVP=TRUE;CN="Spiros D
 ramitinos":https://blues.gr/profile/SpirosDramitinos
END:VEVENT
END:VCALENDAR
