BEGIN:VCALENDAR
PRODID:NingEventWidget-v1
VERSION:2.0
METHOD:PUBLISH
BEGIN:VTIMEZONE
TZID:Europe/Athens
X-LIC-LOCATION:Europe/Athens
BEGIN:DAYLIGHT
TZOFFSETFROM:+0200
TZOFFSETTO:+0300
TZNAME:EEST
DTSTART:19700329T030000
RRULE:FREQ=YEARLY;BYMONTH=3;BYDAY=-1SU
END:DAYLIGHT
BEGIN:STANDARD
TZOFFSETFROM:+0300
TZOFFSETTO:+0200
TZNAME:EET
DTSTART:19701025T040000
RRULE:FREQ=YEARLY;BYMONTH=10;BYDAY=-1SU
END:STANDARD
END:VTIMEZONE
BEGIN:VEVENT
UID:1982923:Event:105962
DTSTAMP:20260425T190531Z
SUMMARY:Rosewood Brothers
DESCRIPTION:The Rosewood Br. was formed 4 years ago in Athens. After s
 everal changes in the lineup, the band now consists of five members wi
 th the occasional participation of additional musicians.  Muddy Waters
 ' blues meets the soul touch of Sly & The Family Stone and JJ Cale's o
 riginality. The combination of the American music culture and The Rose
 wood Br.'s unique elements and personal character creates a fresh appr
 oach on tradition filtered through today's modern music standards.  Th
 e band is currently working on material for their first album and hope
 s to gain a part in the city's musical activities. ..\nJoseph Kiritsis
  - vocals, lap steel & slide guitars   George Katsanos - guitars, harm
 onica, piano, trumpet   Nick Korpas - guitars, piano   John Katsanos -
  bass   Konstantinos Zervas - drums, percussion\n\nFor more informatio
 n visit https://blues.gr/events/rosewood-brothers
DTSTART;TZID=Europe/Athens:20110617T220000
DTEND;TZID=Europe/Athens:20110618T010000
CATEGORIES:live
LOCATION:STAVLOS
WEBSITE:http://www.stavlos.gr/
URL:http://www.stavlos.gr/
CONTACT:210 3452502
ORGANIZER:STAVLOS
ATTACH;FMTTYPE="image/jpeg":http://storage.ning.com/topology/rest/1.0/
 file/get/2252951888?profile=original
ATTENDEE;ROLE=REQ-PARTICIPANT;PARTSTAT=ACCEPTED;RSVP=TRUE;CN="Music Ne
 twork by Michael Limnios":https://blues.gr/profile/MichalisLimnios
END:VEVENT
END:VCALENDAR
