BEGIN:VCALENDAR
PRODID:NingEventWidget-v1
VERSION:2.0
METHOD:PUBLISH
BEGIN:VTIMEZONE
TZID:Europe/Athens
X-LIC-LOCATION:Europe/Athens
BEGIN:DAYLIGHT
TZOFFSETFROM:+0200
TZOFFSETTO:+0300
TZNAME:EEST
DTSTART:19700329T030000
RRULE:FREQ=YEARLY;BYMONTH=3;BYDAY=-1SU
END:DAYLIGHT
BEGIN:STANDARD
TZOFFSETFROM:+0300
TZOFFSETTO:+0200
TZNAME:EET
DTSTART:19701025T040000
RRULE:FREQ=YEARLY;BYMONTH=10;BYDAY=-1SU
END:STANDARD
END:VTIMEZONE
BEGIN:VEVENT
UID:1982923:Event:110194
DTSTAMP:20260422T090244Z
SUMMARY:Rupes Nigra Jazz Quintet
DESCRIPTION:Ένωσαν τις μουσικές σχεδίες του
 ς, αναζητώντας τον Μαύρο Βράχο (Rupes Nigra).
  Τους μάγεψε η ατμόσφαιρα του '30, οι ήχο
 ι από τα υπόγεια μπαρ και τα καμπαρέ το
 υ μεσοπολέμου. Κατέληξαν σε ένα σχήμα 
 ια να δώσουν ήχο και φωνή στη νοσταλγί
 α τους.\nΈλενα Γεωργιάδου: φωνή, Γεράσι
 ος Τότολος: κιθάρες, Κώστας Στάϊκος: σ
 ξόφωνο-κλαρινέτο-φλάουτο, Μαρί Χασάπη
 : κόντρα μπάσο, Θέμης Μαρτέκας: ντραμς.\
 n\n\nFor more information visit https://blues.gr/events/rupes-nigra-ja
 zz-quintet-1
DTSTART;TZID=Europe/Athens:20110921T223000
DTEND;TZID=Europe/Athens:20110922T020000
CATEGORIES:live
LOCATION:Lazy
WEBSITE:http://www.myspace.com/rupesnigrajazzquintet
URL:http://www.myspace.com/rupesnigrajazzquintet
CONTACT:
ORGANIZER:Lazy
ATTACH;FMTTYPE="image/jpeg":http://storage.ning.com/topology/rest/1.0/
 file/get/2252954607?profile=original
ATTENDEE;ROLE=REQ-PARTICIPANT;PARTSTAT=ACCEPTED;RSVP=TRUE;CN="Music Ne
 twork by Michael Limnios":https://blues.gr/profile/MichalisLimnios
END:VEVENT
END:VCALENDAR
