BEGIN:VCALENDAR
PRODID:NingEventWidget-v1
VERSION:2.0
METHOD:PUBLISH
BEGIN:VTIMEZONE
TZID:Europe/Athens
X-LIC-LOCATION:Europe/Athens
BEGIN:DAYLIGHT
TZOFFSETFROM:+0200
TZOFFSETTO:+0300
TZNAME:EEST
DTSTART:19700329T030000
RRULE:FREQ=YEARLY;BYMONTH=3;BYDAY=-1SU
END:DAYLIGHT
BEGIN:STANDARD
TZOFFSETFROM:+0300
TZOFFSETTO:+0200
TZNAME:EET
DTSTART:19701025T040000
RRULE:FREQ=YEARLY;BYMONTH=10;BYDAY=-1SU
END:STANDARD
END:VTIMEZONE
BEGIN:VEVENT
UID:1982923:Event:233514
DTSTAMP:20260421T144334Z
SUMMARY:RUSTY MINERS... blues, classic rock
DESCRIPTION:\nΠαρασκευή 8/1\nRUSTY MINERS\nΔημήτρης 
 ελετάκος: κιθάρα-φωνή, Γιάννης Δρέττα
 : κιθάρα-φωνή, Μάνος Δελώτης: μπάσο, Βα
 ίλης Κόττος: κιθάρα, Γιάννης Χριστόπο
 λος: ντραμς.\n \nΈνα συγκρότημα με βάσε
 ς το Blues, με επιλογές από 60,s – 70,s και Clas
 sic Rock. Είναι όλοι γνωστές φυσιογνωμίες 
 της Rock μουσικής σκηνής με 30+ χρόνια στα
  stage. Συνεργάστηκαν με Cadilac με Texas Brothers μ
 ε No Remorse με Jullie Mazzino με Burnout με Νίκο Γιώρ
 α με Outsiders κ.λπ. γνωστά σχήματα της Αθή
 ας. Χαρακτηριστικό τους είναι ο original vi
 ntage ήχος πού προσομοιώνουν με original όργ
 να και ενισχυτές της εποχής.\nΕίσοδος 1
 0 ευρώ με ποτό.\n\nFor more information visit https://blues.
 gr/events/rusty-miners-blues-classic-rock
DTSTART;TZID=Europe/Athens:20160108T223000
DTEND;TZID=Europe/Athens:20160109T020000
CATEGORIES:blues, classic, rock
LOCATION:LAZY CLUB
WEBSITE:http://www.lazy.gr
URL:http://www.lazy.gr
CONTACT:210 6895535
ORGANIZER;CN="Spiros Dramitinos":https://blues.gr/profile/SpirosDramit
 inos
ATTACH;FMTTYPE="image/jpeg":http://storage.ning.com/topology/rest/1.0/
 file/get/2253045807?profile=original
ATTENDEE;ROLE=REQ-PARTICIPANT;PARTSTAT=ACCEPTED;RSVP=TRUE;CN="Spiros D
 ramitinos":https://blues.gr/profile/SpirosDramitinos
END:VEVENT
END:VCALENDAR
