BEGIN:VCALENDAR
PRODID:NingEventWidget-v1
VERSION:2.0
METHOD:PUBLISH
BEGIN:VTIMEZONE
TZID:Europe/Athens
X-LIC-LOCATION:Europe/Athens
BEGIN:DAYLIGHT
TZOFFSETFROM:+0200
TZOFFSETTO:+0300
TZNAME:EEST
DTSTART:19700329T030000
RRULE:FREQ=YEARLY;BYMONTH=3;BYDAY=-1SU
END:DAYLIGHT
BEGIN:STANDARD
TZOFFSETFROM:+0300
TZOFFSETTO:+0200
TZNAME:EET
DTSTART:19701025T040000
RRULE:FREQ=YEARLY;BYMONTH=10;BYDAY=-1SU
END:STANDARD
END:VTIMEZONE
BEGIN:VEVENT
UID:1982923:Event:130805
DTSTAMP:20260421T120939Z
SUMMARY:SAMSARA BLUES EXPERIMENT Αθήνα
DESCRIPTION:Ηχητικές αναζητήσεις με όχημα τ
 ο ροκ σχήμα, περιπετειώδης επαναπροσδ
 ορισμός της ηλεκτρικής ψυχεδέλειας, π
 νευματικές αναζητήσεις του εντός και 
 ου εκτός μέσα από το 70's καλειδοσκόπιο:
  οι Samsara Blues Experiment, το νέο μεγάλο όνομα τ
 ου αναγεννημένου heavy psych, έρχεται (μετά 
 από απαίτηση του ελληνικού κοινού) να 
 ιαδώσει το ηχητικό του μανιφέστο στα 
 λληνικά εδάφη.\n\n  Σχηματισμένοι μόλις
  το 2007 στο Βερολίνο, οι Samsara Blues Experiment απ
 ό τα πρώτα τους κι όλας demo δεν δίστασαν
  να καταδείξουν τον σαφώς και συνειδητ
 ά προσανατολισμένο ήχο τους. Δυτικότρ
 πος ηλεκτρισμός πλεγμένος με ανατολί
 ικη raga, blues πεντατονικές και folk λεπτομ
 ρειες, rock ένταση σε διαδοχή με ακουστι
 κή ευαισθησία – οι Samsara Blues Experiment συγκε
 ντρώνουν και συνθέτουν τις αντιθέσεις
 , αψηφώντας τις προσταγές του μοντέρνο
 υ για χάριν της γνήσιας heavy/ηλεκτρικής 
 ψυχεδέλειας, όπως την δίδαξαν οι Black Sabb
 ath, οι Led Zeppelin, ο Jimmy Hendrix και τα υπόλοιπα 
 ιερά τέρατα του παραδοσιακού, πρωτοπο
 ιακού rock.  Με το \"Revelation and Mystery\" (αδιαμφ
 σβήτητα έναν από τους καλύτερους δίσκ
 ους του 2011) να είναι ακόμη νωπό στα αυτ
 ά μας και με την αυτοπεποίθηση της παγ
 κόσμιας αποδοχής από κοινό και Τύπο, ο
  Samsara Blues Experiment επισκέπτονται και τη χώ
 ρα μας για ένα mini tour σε Αθήνα και Θεσσα
 ονίκη στις 13 και 15 Ιανουαρίου αντίστο
 χα, πανέτοιμοι να μας αποδείξουν πως π
 έραν κάθε αμφιβολίας αποτελούν το σημ
 ντικότερο νέο εκπρόσωπο του ακμαίου, 
 ωντανού heavy psych ήχου.\n\nFor more information visit ht
 tps://blues.gr/events/samsara-blues-experiment
DTSTART;TZID=Europe/Athens:20120113T000000
DTEND;TZID=Europe/Athens:20120113T235900
CATEGORIES:blues, rock, psychedelia
LOCATION:Six d.o.g.s
WEBSITE:http://www.samsarabluesexperiment.com/
URL:http://www.samsarabluesexperiment.com/
CONTACT:210.3210510
ORGANIZER:
ATTACH;FMTTYPE="image/jpeg":http://storage.ning.com/topology/rest/1.0/
 file/get/2252964885?profile=original
ATTENDEE;ROLE=REQ-PARTICIPANT;PARTSTAT=ACCEPTED;RSVP=TRUE;CN="Giannis 
 Pachidis":https://blues.gr/profile/ioannis
ATTENDEE;ROLE=REQ-PARTICIPANT;PARTSTAT=ACCEPTED;RSVP=TRUE;CN="Music Ne
 twork by Michael Limnios":https://blues.gr/profile/MichalisLimnios
END:VEVENT
END:VCALENDAR
