BEGIN:VCALENDAR
PRODID:NingEventWidget-v1
VERSION:2.0
METHOD:PUBLISH
BEGIN:VTIMEZONE
TZID:Europe/Athens
X-LIC-LOCATION:Europe/Athens
BEGIN:DAYLIGHT
TZOFFSETFROM:+0200
TZOFFSETTO:+0300
TZNAME:EEST
DTSTART:19700329T030000
RRULE:FREQ=YEARLY;BYMONTH=3;BYDAY=-1SU
END:DAYLIGHT
BEGIN:STANDARD
TZOFFSETFROM:+0300
TZOFFSETTO:+0200
TZNAME:EET
DTSTART:19701025T040000
RRULE:FREQ=YEARLY;BYMONTH=10;BYDAY=-1SU
END:STANDARD
END:VTIMEZONE
BEGIN:VEVENT
UID:1982923:Event:80018
DTSTAMP:20260421T220205Z
SUMMARY:\"SANTA CLAUS IS ROLLING TO TOWN\"       THE BOOGIE SINNERS LI
 VE IN \"CABARET VOLTAIRE\"
DESCRIPTION:Guitar - Thodoris AlexiouVocals - Vassiliki PapaioannouHar
 monica - Kostas TenezosBass - Giorgos KarakatsanisDrums - Giannis \"Co
 ach\" Antonopoulos\n \nTime: 23:00\nTicket: 16euro (1 drink included)
 \n\nFor more information visit https://blues.gr/events/santa-claus-is-
 rolling-to-town
DTSTART;TZID=Europe/Athens:20101225T000000
DTEND;TZID=Europe/Athens:20101225T235900
CATEGORIES:gig
LOCATION:CABARET VOLTAIRE
WEBSITE:
URL:
CONTACT:
ORGANIZER;CN="The Boogie Sinners":https://blues.gr/profile/TheBoogieSi
 nners
ATTACH;FMTTYPE="image/jpeg":http://storage.ning.com/topology/rest/1.0/
 file/get/2252947353?profile=original
ATTENDEE;ROLE=REQ-PARTICIPANT;PARTSTAT=ACCEPTED;RSVP=TRUE;CN="Theo and
  The Boogie Sinners":https://blues.gr/profile/AlexiouTheodoros
ATTENDEE;ROLE=REQ-PARTICIPANT;PARTSTAT=ACCEPTED;RSVP=TRUE;CN="The Boog
 ie Sinners":https://blues.gr/profile/TheBoogieSinners
END:VEVENT
END:VCALENDAR
