BEGIN:VCALENDAR
PRODID:NingEventWidget-v1
VERSION:2.0
METHOD:PUBLISH
BEGIN:VTIMEZONE
TZID:Europe/Athens
X-LIC-LOCATION:Europe/Athens
BEGIN:DAYLIGHT
TZOFFSETFROM:+0200
TZOFFSETTO:+0300
TZNAME:EEST
DTSTART:19700329T030000
RRULE:FREQ=YEARLY;BYMONTH=3;BYDAY=-1SU
END:DAYLIGHT
BEGIN:STANDARD
TZOFFSETFROM:+0300
TZOFFSETTO:+0200
TZNAME:EET
DTSTART:19701025T040000
RRULE:FREQ=YEARLY;BYMONTH=10;BYDAY=-1SU
END:STANDARD
END:VTIMEZONE
BEGIN:VEVENT
UID:1982923:Event:43936
DTSTAMP:20260422T110419Z
SUMMARY:S.B.T. acoustic at \"IN VIVO\"
DESCRIPTION:Acoustic blues night!\nΈνα ιδιαίτερο ταξί
 ι στο χώρο των\nακουστικών blues\nτο Σάββ
 το 6 Μαρτίου\nστο “IN VIVO”\n\nΧ. Τρικούπη 7
 9 & Μεθώνης , Εξάρχεια\nwww.invivoclub.gr\n\nμε το
 ς\nΠαναγιώτη Δάρα : κιθάρα, φωνή\nΠαύλο 
 Καραπιπέρη : φωνή, φυσαρμόνικα, κιθάρα\
 n(μέλη των Small Blues Trap)\n\nΏρα έναρξης 23:00\nΕ
 ίσοδος με ποτό : 14€\n\nwww.smallbluestrap.gr\n\n\n\nFor
  more information visit https://blues.gr/events/sbt-acoustic-at-in-viv
 o
DTSTART;TZID=Europe/Athens:20100306T180000
DTEND;TZID=Europe/Athens:20100306T190000
CATEGORIES:acoustic, "live!"
LOCATION:IN VIVO
WEBSITE:
URL:
CONTACT:
ORGANIZER:IN VIVO
ATTACH;FMTTYPE="image/jpeg":http://storage.ning.com/topology/rest/1.0/
 file/get/2252939530?profile=original
ATTENDEE;ROLE=REQ-PARTICIPANT;PARTSTAT=ACCEPTED;RSVP=TRUE;CN="Tsiamtsi
 kas Nikolaos":https://blues.gr/profile/TsiamtsikasNikolaos
ATTENDEE;ROLE=REQ-PARTICIPANT;PARTSTAT=ACCEPTED;RSVP=TRUE;CN="Small Bl
 ues Trap":https://blues.gr/profile/SmallBluesTrap
END:VEVENT
END:VCALENDAR
