BEGIN:VCALENDAR
PRODID:NingEventWidget-v1
VERSION:2.0
METHOD:PUBLISH
BEGIN:VTIMEZONE
TZID:Europe/Athens
X-LIC-LOCATION:Europe/Athens
BEGIN:DAYLIGHT
TZOFFSETFROM:+0200
TZOFFSETTO:+0300
TZNAME:EEST
DTSTART:19700329T030000
RRULE:FREQ=YEARLY;BYMONTH=3;BYDAY=-1SU
END:DAYLIGHT
BEGIN:STANDARD
TZOFFSETFROM:+0300
TZOFFSETTO:+0200
TZNAME:EET
DTSTART:19701025T040000
RRULE:FREQ=YEARLY;BYMONTH=10;BYDAY=-1SU
END:STANDARD
END:VTIMEZONE
BEGIN:VEVENT
UID:1982923:Event:87713
DTSTAMP:20260421T095649Z
SUMMARY:SCHOOLBUS BAND/ Special Guest: Γιάννης Μόνος @ LAZ
 Y CLUB
DESCRIPTION: \nΠέμπτη 6//1\nSCHOOLBUS / Special guest: Γιάν
 νης Μόνος *\nΜανώλης Σκουλάς: κιθάρα-φω
 ή, Ανδρέας Γκομόζιας: κιθάρα-φωνή, Τάκ
 ς Λιαρμακόπουλος: ντραμς, Γιάννης Γρη
 ορίου: μπάσο.\n Η αποθέωση του Blues Rock! Θ
 υλικές μορφές και οι τέσσερις, πάντα ν
 έοι στην ψυχή, αποτελούν παράδειγμα πρ
 ος όλους γιά την ενέργεια, τον επαγγελ
 ατισμό και την ποιότητά τους! Το σχολι
 κό λεωφορείο, θα πάει όλους εμάς στο σχ
 ολείο της μουσικής.\n \n \n\nFor more information vi
 sit https://blues.gr/events/schoolbus-band-special-guest
DTSTART;TZID=Europe/Athens:20110106T230000
DTEND;TZID=Europe/Athens:20110107T143000
CATEGORIES:blues, rock, "....administration", by, "experts."
LOCATION:THE LAZY ROCK AND BLUES CLUB - EVER LIVE
WEBSITE:http://maps.google.com/maps?f=q&source=s_q&hl=en&q=%CE%9B%CE%B
 5%CF%89%CF%86%CF%8C%CF%81%CE%BF%CF%82+%CE%A0%CE%B5%CE%BD%CF%84%CE%AD%C
 E%BB%CE%B7%CF%82+1,+%CE%92%CF%81%CE%B9%CE%BB%CE%AE%CF%83%CF%83%CE%B9%C
 E%B1+15235,+%CE%91%CE%B8%CE%AE%CE%BD%CE%B1,+Greece&sll=20.632784,-81.3
 86719&sspn=34.805689,56.162109&ie=UTF8&cd=5&geocode=FRdcRAId0YNrAQ&spl
 it=0&hq=&hnear=%CE%9B%CE%B5%CF%89%CF%86%CF%8C%CF%81%CE%BF%CF%82+%CE%A0
 %CE%B5%CE%BD%CF%84%CE%AD%CE%BB%CE%B7%CF%82+1,+%CE%92%CF%81%CE%B9%CE%BB
 %CE%AE%CF%83%CF%83
URL:http://maps.google.com/maps?f=q&source=s_q&hl=en&q=%CE%9B%CE%B5%CF
 %89%CF%86%CF%8C%CF%81%CE%BF%CF%82+%CE%A0%CE%B5%CE%BD%CF%84%CE%AD%CE%BB
 %CE%B7%CF%82+1,+%CE%92%CF%81%CE%B9%CE%BB%CE%AE%CF%83%CF%83%CE%B9%CE%B1
 +15235,+%CE%91%CE%B8%CE%AE%CE%BD%CE%B1,+Greece&sll=20.632784,-81.38671
 9&sspn=34.805689,56.162109&ie=UTF8&cd=5&geocode=FRdcRAId0YNrAQ&split=0
 &hq=&hnear=%CE%9B%CE%B5%CF%89%CF%86%CF%8C%CF%81%CE%BF%CF%82+%CE%A0%CE%
 B5%CE%BD%CF%84%CE%AD%CE%BB%CE%B7%CF%82+1,+%CE%92%CF%81%CE%B9%CE%BB%CE%
 AE%CF%83%CF%83
CONTACT:210 6895535
ORGANIZER;CN="Spiros Dramitinos":https://blues.gr/profile/SpirosDramit
 inos
ATTACH;FMTTYPE="image/jpeg":http://storage.ning.com/topology/rest/1.0/
 file/get/2252944365?profile=original
ATTENDEE;ROLE=REQ-PARTICIPANT;PARTSTAT=ACCEPTED;RSVP=TRUE;CN="Spiros D
 ramitinos":https://blues.gr/profile/SpirosDramitinos
END:VEVENT
END:VCALENDAR
