BEGIN:VCALENDAR
PRODID:NingEventWidget-v1
VERSION:2.0
METHOD:PUBLISH
BEGIN:VTIMEZONE
TZID:Europe/Athens
X-LIC-LOCATION:Europe/Athens
BEGIN:DAYLIGHT
TZOFFSETFROM:+0200
TZOFFSETTO:+0300
TZNAME:EEST
DTSTART:19700329T030000
RRULE:FREQ=YEARLY;BYMONTH=3;BYDAY=-1SU
END:DAYLIGHT
BEGIN:STANDARD
TZOFFSETFROM:+0300
TZOFFSETTO:+0200
TZNAME:EET
DTSTART:19701025T040000
RRULE:FREQ=YEARLY;BYMONTH=10;BYDAY=-1SU
END:STANDARD
END:VTIMEZONE
BEGIN:VEVENT
UID:1982923:Event:263304
DTSTAMP:20260421T113131Z
SUMMARY:Shady Roots live at the Wilbury
DESCRIPTION:ΠΑΡΑΣΚΕΥΗ 19/1: SHADY ROOTS LIVE @ ΤΗΕ WILBURY
 Τέσσερα άτομα με διαφορετικές μουσικέ
 ς καταβολές αλλά με κοινή αγάπη για τα 
 blues, δημιούργησαν τον Γενάρη του 2016 του
 ς Shady Roots. Το ύφος του σχήματος σκιαγραφ
 είται μέσα από τον ακατέργαστο και δυν
 αμικό ήχο των ηλεκτρικών blues των δεκαε
 ιών 50's – 60's με επιρροές από Koko Taylor, Etta J
 ames, BB King, Big mama Thornton, Magic Sam, Freddie King κα.Η μπ
 άντα έχει πάρει μέρος σε μεγάλα blues φεσ
 τιβάλ της Αθήνας (Blues For Peace 30 Μαΐου 2016, Α
 φιέρωμα στo Blues ΛΕΦΚΑ-Αντίθεση 18 Μαρτίο
 υ 2017) αποσπώντας θετικά σχόλια και εμφ
 νίζεται με σταθερή συχνότητα σε μαγαζ
 ιά και μουσικές σκηνές.Φωνή : Αθηνά Τσι
 λιγκερίδουΜπάσο : Θανάσης ΓκιουλέαςΤύ
 μπανα : Γίωργος ΚαναβάρηςΚιθάρα: Γιώργ
 ος ΧρυσόπουλοςΕΙΣΟΔΟΣ ΕΛΕΎΘΕΡΗΩΡΑ ΕΝ
 ΡΞΗΣ: 22:30\n\nFor more information visit https://blues.gr/events
 /shady-roots-live-at-the-wilbury
DTSTART;TZID=Europe/Athens:20180119T223000
DTEND;TZID=Europe/Athens:20180120T133000
CATEGORIES:gig
LOCATION:The Wilbury
WEBSITE:https://www.facebook.com/thewilbury/
URL:https://www.facebook.com/thewilbury/
CONTACT:21 0808 9454
ORGANIZER;CN="Giorgos Chrisopoulos":https://blues.gr/profile/GiorgosXr
ATTACH;FMTTYPE="image/jpeg":http://storage.ning.com/topology/rest/1.0/
 file/get/2253058872?profile=original
ATTENDEE;ROLE=REQ-PARTICIPANT;PARTSTAT=ACCEPTED;RSVP=TRUE;CN="Giorgos 
 Chrisopoulos":https://blues.gr/profile/GiorgosXr
END:VEVENT
END:VCALENDAR
