BEGIN:VCALENDAR
PRODID:NingEventWidget-v1
VERSION:2.0
METHOD:PUBLISH
BEGIN:VTIMEZONE
TZID:Europe/Athens
X-LIC-LOCATION:Europe/Athens
BEGIN:DAYLIGHT
TZOFFSETFROM:+0200
TZOFFSETTO:+0300
TZNAME:EEST
DTSTART:19700329T030000
RRULE:FREQ=YEARLY;BYMONTH=3;BYDAY=-1SU
END:DAYLIGHT
BEGIN:STANDARD
TZOFFSETFROM:+0300
TZOFFSETTO:+0200
TZNAME:EET
DTSTART:19701025T040000
RRULE:FREQ=YEARLY;BYMONTH=10;BYDAY=-1SU
END:STANDARD
END:VTIMEZONE
BEGIN:VEVENT
UID:1982923:Event:275024
DTSTAMP:20260420T141813Z
SUMMARY:Shady Roots live @ Rockwood
DESCRIPTION:18/4/2019 Shady Roots live @ Rockwood AthensΏρα έν
 αρξης 21.00Πέντε άτομα με διαφορετικές μ
 ουσικές καταβολές αλλά με κοινή αγάπη 
 για τα blues, αποτελούν τους Shady Roots. Το ύφ
 ς του σχήματος σκιαγραφείται μέσα από
  τον ακατέργαστο και δυναμικό ήχο των 
 λεκτρικών blues των δεκαετιών 50's – 60's με
  επιρροές από Albert King, T-Bone Walker, Magic Sam, Freddi
 e King, Big Mama Thornton κα.Η μπάντα έχει πάρει μ
 ρος σε μεγάλα blues φεστιβάλ της Αθήνας (
 Blues For Peace 30 Μαΐου 2016, Αφιέρωμα στo Blues ΛΕ
 ΚΑ-Αντίθεση 18 Μαρτίου 2017, Αντίθεση blues 
 festival 25-27 Ιανουαριου 2019) αποσπώντας θετ
 κά σχόλια και εμφανίζεται με σταθερή 
 υχνότητα σε μαγαζιά και μουσικές σκην
 ές.Φωνή/Κιθάρα : Αλέξιος ΑλεξόπουλοςΦω
 νή : Τζένη ΚαπάδαηΜπάσο : Θανάσης Γκιου
 λέαςΤύμπανα : Χρήστος ΑνδριανόςΚιθάρα
 : Γιώργος Χρυσόπουλος Bασ. Ηρακλείου 2 &
  Πατησίων 46, Μουσείο, Αθήνα (5 λεπτά από 
 ΗΣΑΠ Βικτώρια)☎ 2155010941 - 6980762062 (τηλ. κρα
 ήσεις καθημερινά από τις 19:00)???? www.rockwoo
 d.gr (ηλεκτρονικές κρατήσεις)+5€ στο πρώ
 το ποτό κατ' άτομο, αντί εισόδου\n\nFor more 
 information visit https://blues.gr/events/shady-roots-live-rockwood-1
DTSTART;TZID=Europe/Athens:20190418T210000
DTEND;TZID=Europe/Athens:20190418T234500
CATEGORIES:gig
LOCATION:Rockwood, Μουσείο, Αθήνα
WEBSITE:http://www.rockwood.gr
URL:http://www.rockwood.gr
CONTACT:2155010941 - 6980762062
ORGANIZER;CN="Giorgos Chrisopoulos":https://blues.gr/profile/GiorgosXr
ATTACH;FMTTYPE="image/jpeg":https://storage.ning.com/topology/rest/1.0
 /file/get/1583373962?profile=original
ATTENDEE;ROLE=REQ-PARTICIPANT;PARTSTAT=ACCEPTED;RSVP=TRUE;CN="Giorgos 
 Chrisopoulos":https://blues.gr/profile/GiorgosXr
END:VEVENT
END:VCALENDAR
