BEGIN:VCALENDAR
PRODID:NingEventWidget-v1
VERSION:2.0
METHOD:PUBLISH
BEGIN:VTIMEZONE
TZID:Europe/Athens
X-LIC-LOCATION:Europe/Athens
BEGIN:DAYLIGHT
TZOFFSETFROM:+0200
TZOFFSETTO:+0300
TZNAME:EEST
DTSTART:19700329T030000
RRULE:FREQ=YEARLY;BYMONTH=3;BYDAY=-1SU
END:DAYLIGHT
BEGIN:STANDARD
TZOFFSETFROM:+0300
TZOFFSETTO:+0200
TZNAME:EET
DTSTART:19701025T040000
RRULE:FREQ=YEARLY;BYMONTH=10;BYDAY=-1SU
END:STANDARD
END:VTIMEZONE
BEGIN:VEVENT
UID:1982923:Event:208641
DTSTAMP:20260424T042228Z
SUMMARY:Ο Sidney Selby «Guitar Crusher» για ένα και μον
 αδικό Live στο Rock n Roll music diner στην Παλιά Π
 λη της Ροδου!
DESCRIPTION:Ο Sidney Selby αποτελεί γνήσιο δείγμα
  του κόσμου των μπλουζ. Ανάμεσα στα προ
 σωνύμια που του έχουν δώσει, είναι \"Bone 
 crusher\" και \"Guitar Crusher\", ιδιότητες που κατ
 χύρωσε... επάξια κατά τη διάρκεια της σ
 ταδιοδρομίας του.\nΓεννημένος στην κυρ
 ίαρχα αγροτική κομητεία του Hyde, της Βό
 ειας Καρολίνας, το 1931, στη διάρκεια τη
  μεσοπολεμικής Οικονομικής Κρίσης, μπ
 ορεί να πέρασε ένα μεγάλο κομμάτι της 
 εανικής ηλικίας του δουλεύοντας στα β
 αμβακοχώραφα αλλά κατάφερνε πάντα να 
 ξασφαλίζει τις Κυριακές για την εξάσκ
 ηση της κιθάρας και της βαρύτονης φωνή
 ς του, ως μέλος της χορωδίας της Εκκλησ
 ίας των Βαπτιστών του Mt. Pilgrim, συνεχίζο
 τας έτσι μια παράδοση που ευθύνεται γ
 α μιαν ολόκληρη γενιά τραγουδιστών μπ
 λουζ της εποχής του.\nΜετακόμισε στη Νέ
 α Υόρκη τη δεκαετία του '50, βρήκε δουλε
 ά και μπόρεσε και πάλι να ξεκινήσει το
  τραγούδι σε εκκλησιαστικές χορωδίες. 
 Ύστερα από παρότρυνση των φίλων του, ω
 τόσο, δεν άργησε να φτιάξει ένα δικό τ
 υ σχήμα, τους Midnight Rockers που πολύ σύντομ
 α απέκτησε μεγάλη δημοτικότητα.\nΤο 1960 
 έμελλε να σηματοδοτήσει την αρχή μιας 
 ολόκληρης δεκαετίας παραστάσεων με το
 υς Drifters, τους Isley Brothers, τον Ben E. King και άλ
 λων μεγάλων ταλέντων της R&B που άκμασα
  κατά τη μουσική αναγέννηση της δεκαε
 ίας του '60.\nΟ Selby υπέγραψε συμβόλαιο με
  τη δισκογραφική της Κολούμπια, ξεκινώ
 ντας έτσι μια συνεργασία που συνεχίστ
 κε μέχρι το 1970, εποχή όπου οι μουσικές 
 προτιμήσεις των Αμερικανών άρχισαν να
  απομακρύνονται από τα μπλουζ και τους
  ήχους της σόουλ. Έτσι, στις αρχές της δ
 εκαετίας του '80, ο \"Guitar Crusher\", πήρε το δρ
 όμο για την Ευρώπη και περισσότερο φιλ
 ικά για τα μπλουζ, περιβάλλοντα. Οι παρ
 αστάσεις του στα πλαίσια μεγάλων φεστ
 βάλ σηματοδότησαν την αρχή της επιστρ
 οφής του. Ο διεθνούς φήμης, πλέον, σήμε
 α τραγουδιστής και συνθέτης έχει έκτο
 τε ηχογραφήσει 4 άλμπουμ με τραγούδια 
 ου έχει συνθέσει ο ίδιος, έργα που δια
 νέουν τη δύναμη και τη σιγουριά της φω
 νής του που τόσο έντονα έχει επηρεαστε
 ί από τα γκόσπελ. Η καθηλωτική φωνητικ
  του δύναμη συνέβαλε στη δημιουργία τ
 ς φήμης του ως «Η μεγάλη φωνή της Νέας 
 Υόρκης» (The Big Voice from New York), ένα από τα πρ
 τοκλασάτα ονόματα στο χώρο της Ευρωπα
 ϊκής μπλουζ.\nSidney Selby is a true blues man. He also goes
  by 'Bone Crusher' and 'Guitar Crusher', names he earned throughout hi
 s career.\nBorn in rural Hyde County N.C. in 1931 during the height of
  the Depression, he toiled in the cotton fields during his youth but s
 et aside Sundays for exercising his rich baritone in the choir of Mt. 
 Pilgrim Baptist Church, continuing a tradition which gave rise to a wh
 ole generation of blues singers of his era.\nHe moved to New York in t
 he 50s, found a job and started singing in Church again. However. enco
 uraged by his friends, he soon formed his own band, the Midnight Rocke
 rs and began attracting a large following.\nThe year 1960 marked the b
 eginning of a decade of performances with The Drifters, The Isley Brot
 hers, Ben E. King and other major R&B talents which flourished during 
 the 1960's musical renaissance.\nSelby was signed by Columbia Records 
 and remained under contract until 1970, when the musical tastes in Ame
 rica began to shift away from blues and soul sounds. So, in the early 
 80s GUITAR CRUSHER headed for Europe and a more hospitals blues climat
 e. Here his performance on major festivals marked the start of his com
 eback. The now internationally-known singer and writer has since accor
 ded 4 albums singing his own compositions with force and assurance in 
 his gospel-inflected voice. His transfixing vocal power won him a repu
 tation as 'The Big Voice From New York', a headliner on the european b
 lues-circuit.http://youtu.be/omVgCT-aukw\n\nFor more information visit
  https://blues.gr/events/sidney-selby-guitar-crusher-live-rock-n-roll-
 music-diner
DTSTART;TZID=Europe/Athens:20140801T220000
DTEND;TZID=Europe/Athens:20140802T130000
CATEGORIES:blues, live
LOCATION:Arionois sq. 2-3
WEBSITE:http://www.rodosevents.gr/event/item/sidney-selby-guitar-crush
 er-and-band-live-at-rock-n-roll-music-diner
URL:http://www.rodosevents.gr/event/item/sidney-selby-guitar-crusher-a
 nd-band-live-at-rock-n-roll-music-diner
CONTACT:2241025202
ORGANIZER;CN="Anastasios Diakogeorgiou":https://blues.gr/profile/Anast
 asiosDiakogeorgiou
ATTACH;FMTTYPE="image/jpeg":http://storage.ning.com/topology/rest/1.0/
 file/get/2253027258?profile=original
ATTENDEE;ROLE=REQ-PARTICIPANT;PARTSTAT=ACCEPTED;RSVP=TRUE;CN="Anastasi
 os Diakogeorgiou":https://blues.gr/profile/AnastasiosDiakogeorgiou
END:VEVENT
END:VCALENDAR
