BEGIN:VCALENDAR
PRODID:NingEventWidget-v1
VERSION:2.0
METHOD:PUBLISH
BEGIN:VTIMEZONE
TZID:Europe/Athens
X-LIC-LOCATION:Europe/Athens
BEGIN:DAYLIGHT
TZOFFSETFROM:+0200
TZOFFSETTO:+0300
TZNAME:EEST
DTSTART:19700329T030000
RRULE:FREQ=YEARLY;BYMONTH=3;BYDAY=-1SU
END:DAYLIGHT
BEGIN:STANDARD
TZOFFSETFROM:+0300
TZOFFSETTO:+0200
TZNAME:EET
DTSTART:19701025T040000
RRULE:FREQ=YEARLY;BYMONTH=10;BYDAY=-1SU
END:STANDARD
END:VTIMEZONE
BEGIN:VEVENT
UID:1982923:Event:240314
DTSTAMP:20260421T203447Z
SUMMARY:SIMOS KOKAVESIS & BLUES Co. & Markella Panagiotou
DESCRIPTION:\nΠέμπτη 24/3\nSIMOS KOKAVESIS & BLUES Co.\nΣίμο
 ς Κοκαβέσης: κιθάρα-φωνή, Μάνος Δελώτη
 : μπάσο, Κυριάκος Δαρίβας: ντραμς.\nSpecial
  guest: Μαρκέλλα Παναγιώτου\nH blues \"εταιρε
 α\" του Σίμου Κοκαβέση, υποδέχεται επί 
 σκηνής την εκρηκτική Markella Panayotou ! Kορυφ
 ία ροκ ερμηνεύτρια, μοναδική μουσική 
 ερσόνα…\nAποτελεί μια από τις πρώτες φ
 ωνές στο χώρο, με σημαντικές συνεργασί
 ες βλέπε #Socrates (1999-2009), και στο προσωπικ
  σχήμα του Αντώνη Τουρκογιώργη..!!\nΠολ
 τάλαντη, δυναμική και «γνήσια», αποδί
 ει με μαεστρία blues-rock, classic & hard rock, με το
  ιδιαίτερο προσωπικό της ύφος..\nΕίσοδο
 ς ελεύθερη. Ελάχιστη κατανάλωση 5 ευρώ.
 \nhttps://www.youtube.com/watch?v=PDtb2trIIA0\n\nFor more information 
 visit https://blues.gr/events/simos-kokavesis-blues-co-markella-panagi
 otou-1
DTSTART;TZID=Europe/Athens:20160324T223000
DTEND;TZID=Europe/Athens:20160325T020000
CATEGORIES:blues, "&", "blues."
LOCATION:LAZY CLUB
WEBSITE:http://www.lazy.gr
URL:http://www.lazy.gr
CONTACT:210 6895535
ORGANIZER;CN="Spiros Dramitinos":https://blues.gr/profile/SpirosDramit
 inos
ATTACH;FMTTYPE="image/jpeg":http://storage.ning.com/topology/rest/1.0/
 file/get/2253037784?profile=original
ATTENDEE;ROLE=REQ-PARTICIPANT;PARTSTAT=ACCEPTED;RSVP=TRUE;CN="Spiros D
 ramitinos":https://blues.gr/profile/SpirosDramitinos
END:VEVENT
END:VCALENDAR
